BEGIN:VCALENDAR
VERSION:2.0
PRODID:-//Patriot Guard Riders - ECPv5.3.2.1//NONSGML v1.0//EN
CALSCALE:GREGORIAN
METHOD:PUBLISH
X-WR-CALNAME:Patriot Guard Riders
X-ORIGINAL-URL:https://www.patriotguard.org
X-WR-CALDESC:Events for Patriot Guard Riders
BEGIN:VTIMEZONE
TZID:America/New_York
BEGIN:DAYLIGHT
TZOFFSETFROM:-0500
TZOFFSETTO:-0400
TZNAME:EDT
DTSTART:20190310T070000
END:DAYLIGHT
BEGIN:STANDARD
TZOFFSETFROM:-0400
TZOFFSETTO:-0500
TZNAME:EST
DTSTART:20191103T060000
END:STANDARD
END:VTIMEZONE
BEGIN:VEVENT
DTSTART;VALUE=DATE:20190527
DTEND;VALUE=DATE:20190528
DTSTAMP:20210405T025123
CREATED:20190526T194834Z
LAST-MODIFIED:20190526T194834Z
UID:162046-1558915200-1559001599@www.patriotguard.org
SUMMARY:Memorial Day Observance
DESCRIPTION:Memorial\nMemorial Day Observance\nSnoqualmie\, Washington – 05-27-19\n\n\n\n\nABOUT THE MISSION: \nWe have been invited by the American Legion Post 79 to attend their Memorial Day Honors. The Legion will be conducting Remembrance Services at all the Snoqualmie Valley cemeteries (Preston\, Fall City\, North Bend) with services culminating at the Snoqualmie Veteran’s Memorial Park. This will be a flag line only mission\, a luncheon will be offered after the ceremony.\n\n\nPRIMARY STAGING DETAILS: 05-27-19 \nStaging Time: 10:45 a.m. \nSnoqualmie City Hall (Parking behind building entrance off Maple Ave SE)\n38624 SE River St\nSnoqualmie\, Washington 98065\n\n\nRide Captain: \nSabrina “Mother Hen” Brown\, pgrmotherhen@gmail.com\, 206-369-1434\n\nSpecial Instructions:\n\n\n11:00 am – Mission Brief\n11:15 am – KSU\n11:30 am – Flag line in place\n12:00 pm – Ceremony starts\n12:20 pm – end of service\, quietly fade and debrief (stay for lunch if you chose)\n\nWeather is expected to be in the mid-70’s with chance of rain; please come prepared for a long flag line.\n\nSupport Vehicle:  CathyLee “HotWheelz” Ryan\, hotwheelz65@gmail.com\, 206-380-9429\n\n\nFlags & Water:\nFlags will be provided\nLarge Bike Flags will NOT be needed.\nWater will be provided.\n\n\n\nSubmitted By: Sabrina Brown \nPosition: Washington State Captain \n\nNote: You do not have to own/ride a motorcycle or be a veteran to join\, and membership is Free. The only requirement is RESPECT! To subscribe to receive mission notices\, log into the National Site and click on the Members tab at the top. Select the Subscribe to PGR Missions option.\n Print This Page
URL:https://www.patriotguard.org/mission/memorial-day-observance-8/
CATEGORIES:Memorial
END:VEVENT
END:VCALENDAR