BEGIN:VCALENDAR
VERSION:2.0
PRODID:-//Patriot Guard Riders - ECPv5.3.2.1//NONSGML v1.0//EN
CALSCALE:GREGORIAN
METHOD:PUBLISH
X-WR-CALNAME:Patriot Guard Riders
X-ORIGINAL-URL:https://www.patriotguard.org
X-WR-CALDESC:Events for Patriot Guard Riders
BEGIN:VTIMEZONE
TZID:America/New_York
BEGIN:DAYLIGHT
TZOFFSETFROM:-0500
TZOFFSETTO:-0400
TZNAME:EDT
DTSTART:20190310T070000
END:DAYLIGHT
BEGIN:STANDARD
TZOFFSETFROM:-0400
TZOFFSETTO:-0500
TZNAME:EST
DTSTART:20191103T060000
END:STANDARD
END:VTIMEZONE
BEGIN:VEVENT
DTSTART;VALUE=DATE:20190527
DTEND;VALUE=DATE:20190528
DTSTAMP:20210405T140522
CREATED:20190521T153804Z
LAST-MODIFIED:20190521T153804Z
UID:161941-1558915200-1559001599@www.patriotguard.org
SUMMARY:Memorial Day Flag Line\, Kingman
DESCRIPTION:HOTH Mission\nMemorial Day Flag Line\nKingman\, Arizona – 05-27-19\n\n\n\n\nABOUT THE MISSION: \nThe Vietnam Veterans of America Post #975 Will be holding a Memorial Day Program on Monday 27 May 2019 at 9:00 AM. The program will be held at the Kingman Veterans Memorial located at the West end of Locomotive Park. We will stand a flag line prior to\, and during the opening ceremonies of the program.\n\n\nPRIMARY STAGING DETAILS: 05-27-19 \nStaging Time: 08:20  \nOn Beale St.\, North side of the Kingman Veterans Memorial (West end of Locomotive Park)\n310 W. Beale St.\nKingman\, Arizona 86401\n\n\nRide Captain: \nLoren Larson\ngrlars@gmail.com(928) 530-1992\nShawn Schroeder   Ride/Flag Captain\n928-897-4393\nhomieclown64@msn.com\n\n\nSpecial Instructions: \nStaging: 8:20 AM\nBriefing: 8:35 AM\nAfter the briefing we will move to the flag line location.We will stand until the opening ceremony has concluded.\n\nFlags & Water:\nFlags will be provided\nLarge Bike Flags will NOT be needed.\nWater WILL NOT be provided\, please bring your own.\n\nSubmitted By: Loren Larson \nPosition: Arizona Assistant State Captain \n\nNote: You do not have to own/ride a motorcycle or be a veteran to join\, and membership is Free. The only requirement is RESPECT! To subscribe to receive mission notices\, log into the National Site and click on the Members tab at the top. Select the Subscribe to PGR Missions option.\n Print This Page
URL:https://www.patriotguard.org/mission/memorial-day-flag-line-kingman/
CATEGORIES:HOTH Mission
END:VEVENT
END:VCALENDAR