BEGIN:VCALENDAR
VERSION:2.0
PRODID:-//Patriot Guard Riders - ECPv5.3.2.1//NONSGML v1.0//EN
CALSCALE:GREGORIAN
METHOD:PUBLISH
X-WR-CALNAME:Patriot Guard Riders
X-ORIGINAL-URL:https://www.patriotguard.org
X-WR-CALDESC:Events for Patriot Guard Riders
BEGIN:VTIMEZONE
TZID:America/New_York
BEGIN:DAYLIGHT
TZOFFSETFROM:-0500
TZOFFSETTO:-0400
TZNAME:EDT
DTSTART:20190310T070000
END:DAYLIGHT
BEGIN:STANDARD
TZOFFSETFROM:-0400
TZOFFSETTO:-0500
TZNAME:EST
DTSTART:20191103T060000
END:STANDARD
END:VTIMEZONE
BEGIN:VEVENT
DTSTART;VALUE=DATE:20190527
DTEND;VALUE=DATE:20190528
DTSTAMP:20210405T045253
CREATED:20190524T010054Z
LAST-MODIFIED:20190524T010054Z
UID:162244-1558915200-1559001599@www.patriotguard.org
SUMMARY:Memorial Day Ceremony
DESCRIPTION:HOTH Mission\nMemorial Day Ceremony \, POW/MIA\, KIA\, Veteran\, PGR\nUSA USMC USN USAF USCG – \, WWII\, Korea\, Vietnam\, GW/ODS\, WoT\nLake Havasu City\, Arizona – 05-27-19\n\n\n\n\nABOUT THE MISSION: \nWe will with participating in the Lake Havasu City Memorial Day Ceremony starting at 10:00 A.M. at Lake Havasu Memorial Gardens\, 1698 Deer Run Drive!\n\n\nPRIMARY STAGING DETAILS: 05-27-19 \nStaging Time: 09:00 am\n \nAmerican Legion Post 81 / Rear Parking Lot\n181 Paseo Del Sol.\nLake Havasu City\, Arizona 86403\n\n\nRide Captain: \nJed ‘Muther Hen’ Kohler\n717-880-7745\njedsky@live.com\n\n\nSpecial Instructions: \nBriefing: @ 9:20 A.M.\nKSU: @ 9:30 A.M.\n\nI want to Thank the VFW POST 9401 for Sponsoring the Memorial Day Ceremony every year!!!!\nLet’s have a big patriotic turn out!!!!!!\n\nFlags & Water:\nFlags will not be provided\nIf you have large bike flags\, please bring them.\nWater WILL NOT be provided\, please bring your own.\n\nSubmitted By: Jed Kohler \nPosition: Arizona Assistant State Captain \n\nNote: You do not have to own/ride a motorcycle or be a veteran to join\, and membership is Free. The only requirement is RESPECT! To subscribe to receive mission notices\, log into the National Site and click on the Members tab at the top. Select the Subscribe to PGR Missions option.\n Print This Page
URL:https://www.patriotguard.org/mission/memorial-day-ceremony-30/
CATEGORIES:HOTH Mission
END:VEVENT
END:VCALENDAR