BEGIN:VCALENDAR
VERSION:2.0
PRODID:-//Patriot Guard Riders - ECPv5.3.2.1//NONSGML v1.0//EN
CALSCALE:GREGORIAN
METHOD:PUBLISH
X-WR-CALNAME:Patriot Guard Riders
X-ORIGINAL-URL:https://www.patriotguard.org
X-WR-CALDESC:Events for Patriot Guard Riders
BEGIN:VTIMEZONE
TZID:America/New_York
BEGIN:DAYLIGHT
TZOFFSETFROM:-0500
TZOFFSETTO:-0400
TZNAME:EDT
DTSTART:20190310T070000
END:DAYLIGHT
BEGIN:STANDARD
TZOFFSETFROM:-0400
TZOFFSETTO:-0500
TZNAME:EST
DTSTART:20191103T060000
END:STANDARD
END:VTIMEZONE
BEGIN:VEVENT
DTSTART;VALUE=DATE:20190527
DTEND;VALUE=DATE:20190528
DTSTAMP:20210404T234854
CREATED:20190522T143750Z
LAST-MODIFIED:20190522T143750Z
UID:161962-1558915200-1559001599@www.patriotguard.org
SUMMARY:Memorial  Day Ceremony
DESCRIPTION:HOTH Mission\n Memorial Day Ceremony\nKansas City\, Missouri – 05-27-19\n\n\n\n\nABOUT THE MISSION: \nTerrace Park Funeral Home & Cemetery have invited Patriot Guard Riders to attend the Memorial Day Ceremony.\n\n\nPRIMARY STAGING DETAILS: 05-27-19 \nStaging Time: 10:30  \nTerrace Park Funeral Home & Cemetery\,\n801 NW 108th St\nKansas City\, Missouri 64155\nMap\n\n\nRide Captain: \nTerry Roettele 816-527-5493\ntroettele1988.tr@gmail.com\n\n\nSpecial Instructions: \n10:30 am meeting 11:00 am Ceremony Should last 1 hour.\n\nFlags & Water:\nFlags will be provided\nLarge Bike Flags will NOT be needed.\nWater WILL NOT be provided\, please bring your own.\n\n\n\nSubmitted By: Terry Roettele \nPosition: Missouri Ride Captain \n\nNote: You do not have to own/ride a motorcycle or be a veteran to join\, and membership is Free. The only requirement is RESPECT! To subscribe to receive mission notices\, log into the National Site and click on the Members tab at the top. Select the Subscribe to PGR Missions option.\n Print This Page
URL:https://www.patriotguard.org/mission/memorial-day-ceremony-29/
CATEGORIES:HOTH Mission
END:VEVENT
END:VCALENDAR