BEGIN:VCALENDAR
VERSION:2.0
PRODID:-//Patriot Guard Riders - ECPv5.6.0//NONSGML v1.0//EN
CALSCALE:GREGORIAN
METHOD:PUBLISH
X-WR-CALNAME:Patriot Guard Riders
X-ORIGINAL-URL:https://www.patriotguard.org
X-WR-CALDESC:Events for Patriot Guard Riders
BEGIN:VTIMEZONE
TZID:UTC
BEGIN:STANDARD
TZOFFSETFROM:+0000
TZOFFSETTO:+0000
TZNAME:UTC
DTSTART:20140101T000000
END:STANDARD
END:VTIMEZONE
BEGIN:VEVENT
DTSTART;TZID=UTC:20141111T090000
DTEND;TZID=UTC:20141111T110000
DTSTAMP:20210511T130807
CREATED:20141111T140000Z
LAST-MODIFIED:20200106T010219Z
UID:388919-1415696400-1415703600@www.patriotguard.org
SUMMARY:Memorial - Battlefield Cross Dedication\,  2LT Justin Sisson
DESCRIPTION:Justin Sisson\, 2LT\n\nUnited States Army\n11 November 2014\nBattlefield Cross Dedication\nOverland Park\, Kansas\n\nThe family of Justin Sisson\, 2LT has requested the Patriot Guard Riders attend the Dedication of his Battlefield Cross on 11 November 2014 at his high school\, Blue Valley West High School\, 16200 Antioch Road\, Overland Park\, Kansas 66085.\n2LT Sisson died of wounds received in action near Tsamkani Paktiya Province\, Afghanistan. He was a member of HHC\, 1st BN\, 506th Infantry Regiment\, 4BCT; Fort Campbell\, Kentucky. \nThe family has requested a flag line to honor their loved one. \nStaging: 11 Nov 14\n0730 hrs. (7:30 am) – Stage at CVS Pharmacy Parking Lot\, 12290 College Blvd –directly across College Boulevard from Johnson County Community College\, Overland Park\, Kansas\n0740 hrs. (7:40 am) – Kick Stands Up\n0805 hrs. (08:05 am) – Arrive at Blue Valley West High School\, 16200 Antioch Road\, Overland Park\, KS\nYou must not arrive at BVWHS before 0800 hrs. (8:00 am) because of school bus traffic.\n0830 hrs. (8:30 am) – Dedication Begins \nYour Ride Captain for this mission will be:\nMike (Grasshopper) Crow\n913-522-1386\nmikecrow@swbell.net \nBruce (Medic) Holmes\nAssistant State Captain – Kansas
URL:https://www.patriotguard.org/mission/memorial-battlefield-cross-dedication-2lt-justin-sisson/
CATEGORIES:Archive
END:VEVENT
END:VCALENDAR