BEGIN:VCALENDAR
VERSION:2.0
PRODID:-//Patriot Guard Riders - ECPv5.6.0//NONSGML v1.0//EN
CALSCALE:GREGORIAN
METHOD:PUBLISH
X-WR-CALNAME:Patriot Guard Riders
X-ORIGINAL-URL:https://www.patriotguard.org
X-WR-CALDESC:Events for Patriot Guard Riders
BEGIN:VTIMEZONE
TZID:America/New_York
BEGIN:DAYLIGHT
TZOFFSETFROM:-0500
TZOFFSETTO:-0400
TZNAME:EDT
DTSTART:20160313T070000
END:DAYLIGHT
BEGIN:STANDARD
TZOFFSETFROM:-0400
TZOFFSETTO:-0500
TZNAME:EST
DTSTART:20161106T060000
END:STANDARD
END:VTIMEZONE
BEGIN:VEVENT
DTSTART;TZID=America/New_York:20160805T090000
DTEND;TZID=America/New_York:20160805T110000
DTSTAMP:20210511T195159
CREATED:20160805T130000Z
LAST-MODIFIED:20191201T154548Z
UID:416159-1470387600-1470394800@www.patriotguard.org
SUMMARY:Memorial
DESCRIPTION:MEMORIAL MISSION\n\n\n   \n\n\nShady Lane Memorial Park \n\n\n   \n\n\nNorwalk\, Ohio\n\n\n   \n\n\n   OHIO FLAGS OF HONOR   \n\n\n   \n\n\n[ATTACH=CONFIG]4982[/ATTACH]\n\n\n   \n\n\nHonoring the Fallen and Their Families\n\n\n   \n\n\n[ATTACH=CONFIG]4983[/ATTACH]\n\n\n   \n\n\n \n\n\n   \n\n\n \n\n\n  **Note** This Is a Two Part Mission\n   \n  Part # 1: Memorial Honor Escort of Ohio Flags of Honor Vehicles to Norwalk\, OH:\n  Staging Location:\n  Pontiac Section Line Road between State Route’s 4 & 269 (Just South of The Sorrowful Mothers Shrine)\n  8 Miles North of Attica\, OH & 5.5 Miles South of Bellevue\, OH\n  The Huron County Sheriff & OSP have closed this section of road for us for 1 hour. Enter road from Rt. 269.\n  Staging Time: 5 August 2016 @ 0730hrs-(7:30 AM) / Briefing @ 0815hrs / KSU @ 0830hrs\n   \n  Gary & Curt will brief everyone at the staging area as to what the OHPG will be doing. Please be on time.\n  This Honor Escort will be led by the Ohio Patriot Guard and will include American Leigon Riders\, AMVETS Riders\, Combat Vets\, Eagles Riders & others and will be fully escorted by OSP\, Huron County Sheriff & Local PD\n   \n  Part # 2: Ohio Flags of Honor Opening Ceremony:\n   \n  Event Location:\n  Ohio Flags of Honor Opening Ceremony\n  Shady Lane Memorial Park \n  154 Shady Lane Drive\n  Norwalk\, Ohio 44857\n  Seating of Gold Star Families: 1830hrs-(6:30 PM)\n  Opening Ceremony & Ohio Flags of Honor placement begins: 1900hrs-(7 PM) \n  Staging Time: 5 August 2016@ 1730hrs-(5:30 PM) @ The Ohio Flags of Honor Truck & Trailer.\n   \n  Patriot Guard Motorcycle & Cage Parking: In the Huron County Veterans Service Office Parking Lots at 130 Shady Lane behind the Shady Lane Memorial Park & The Ohio Flags of Honor field.\n   \n  Gary & Curt will brief everyone at the staging area as to what the OHPG will be doing. Please be on time.\n   \n  District #2 Captain Gary Knight and District #2 Ride Captain Curt Tyree will co-captain this merit. Please follow their instructions. Use your own judgment on how you get safely to and from the mission. If you need to contact Gary email him at:  gillkiki@neo.rr.com  or Curt at: windridr_tyree@yahoo.com  \n  \n  Bob Woods OHSC\n  OHSC@patriotguard.org  \n  513-777-1418
URL:https://www.patriotguard.org/mission/memorial-595/
CATEGORIES:Archive
END:VEVENT
END:VCALENDAR