BEGIN:VCALENDAR
VERSION:2.0
PRODID:-//Patriot Guard Riders - ECPv5.6.0//NONSGML v1.0//EN
CALSCALE:GREGORIAN
METHOD:PUBLISH
X-WR-CALNAME:Patriot Guard Riders
X-ORIGINAL-URL:https://www.patriotguard.org
X-WR-CALDESC:Events for Patriot Guard Riders
BEGIN:VTIMEZONE
TZID:America/New_York
BEGIN:DAYLIGHT
TZOFFSETFROM:-0500
TZOFFSETTO:-0400
TZNAME:EDT
DTSTART:20160313T070000
END:DAYLIGHT
BEGIN:STANDARD
TZOFFSETFROM:-0400
TZOFFSETTO:-0500
TZNAME:EST
DTSTART:20161106T060000
END:STANDARD
END:VTIMEZONE
BEGIN:VEVENT
DTSTART;TZID=America/New_York:20160530T090000
DTEND;TZID=America/New_York:20160530T110000
DTSTAMP:20210513T142619
CREATED:20160530T130000Z
LAST-MODIFIED:20191201T153755Z
UID:415419-1464598800-1464606000@www.patriotguard.org
SUMMARY:Memorial
DESCRIPTION:On Memorial Day\, May 30\, 2016\, Honor and Remember will once again be honoring Arizona’s fallen military heroes with the Second Annual Honor and Remember Event in Prescott Valley. PGR has again been asked to have a flag line up and standing at the Prescott Valley Civil Center during this one-hour event. \nDATE: Monday\, May 30\, 2016 \nSTAGING:     1300 HOURS (1:00 PM) at the Prescott Valley Civil Center\n7501 E. Civic Circle\nPrescott Valley\, AZ \nBRIEFING: 1330 HOURS \nFLAG LINE:  1345 HOURS \nPGR will provide Flags. FLAG LINE ONLY – NO ESCORT. \nRIDE CAPTAIN:\nSean Kriner\nSean_kriner@yahoo.com\n602-535-9988 \nFLAG GUY:\nGary Sheldon
URL:https://www.patriotguard.org/mission/memorial-559/
CATEGORIES:Archive
END:VEVENT
END:VCALENDAR