BEGIN:VCALENDAR
VERSION:2.0
PRODID:-//Patriot Guard Riders - ECPv5.6.0//NONSGML v1.0//EN
CALSCALE:GREGORIAN
METHOD:PUBLISH
X-WR-CALNAME:Patriot Guard Riders
X-ORIGINAL-URL:https://www.patriotguard.org
X-WR-CALDESC:Events for Patriot Guard Riders
BEGIN:VTIMEZONE
TZID:America/New_York
BEGIN:DAYLIGHT
TZOFFSETFROM:-0500
TZOFFSETTO:-0400
TZNAME:EDT
DTSTART:20160313T070000
END:DAYLIGHT
BEGIN:STANDARD
TZOFFSETFROM:-0400
TZOFFSETTO:-0500
TZNAME:EST
DTSTART:20161106T060000
END:STANDARD
END:VTIMEZONE
BEGIN:VEVENT
DTSTART;TZID=America/New_York:20160614T090000
DTEND;TZID=America/New_York:20160614T110000
DTSTAMP:20210513T175019
CREATED:20160614T130000Z
LAST-MODIFIED:20191201T153645Z
UID:415315-1465894800-1465902000@www.patriotguard.org
SUMMARY:Memorial
DESCRIPTION:Quarterly Burial Honors\nElwood\, IL\n14 June 2016\n\n\n\nNo man or women who put on a uniform of our Country’s Military should be buried without Honor and Respect. \nThe Staff of Abraham Lincoln National Cemetery has again asked the presence of The Patriot Guard Riders as they honor those that have been buried without ceremony in the second quarter of this year. \nThese are homeless vets or those who died alone. Please come out and show your respect for all these Veterans. \nStaging: 0830hrs 8:30am\n20953 W. Hoff Road\nElwood\, IL \nCEREMONY:\nCommittal Shelter C\n0900hrs SHARP  9:00am \nSRC:\nbig Dave Gier\n312-405-2692
URL:https://www.patriotguard.org/mission/memorial-485/
CATEGORIES:Archive
END:VEVENT
END:VCALENDAR