BEGIN:VCALENDAR
VERSION:2.0
PRODID:-//Patriot Guard Riders - ECPv5.6.0//NONSGML v1.0//EN
CALSCALE:GREGORIAN
METHOD:PUBLISH
X-WR-CALNAME:Patriot Guard Riders
X-ORIGINAL-URL:https://www.patriotguard.org
X-WR-CALDESC:Events for Patriot Guard Riders
BEGIN:VTIMEZONE
TZID:America/New_York
BEGIN:DAYLIGHT
TZOFFSETFROM:-0500
TZOFFSETTO:-0400
TZNAME:EDT
DTSTART:20160313T070000
END:DAYLIGHT
BEGIN:STANDARD
TZOFFSETFROM:-0400
TZOFFSETTO:-0500
TZNAME:EST
DTSTART:20161106T060000
END:STANDARD
END:VTIMEZONE
BEGIN:VEVENT
DTSTART;TZID=America/New_York:20160623T090000
DTEND;TZID=America/New_York:20160623T110000
DTSTAMP:20210513T153841
CREATED:20160623T130000Z
LAST-MODIFIED:20191201T153640Z
UID:415308-1466672400-1466679600@www.patriotguard.org
SUMMARY:Memorial
DESCRIPTION:For Whom The Bell Tolls – Portland\, OR ~ 23/JUN/16\nMonthly Services For American Veterans-Heroes\n\n\nMission Date: Thursday\, 23/JUN/16 \nRide Captain: Bob Williams rrwilliams_42@comcast.net \nStaging Location: Willamette National Cemetery — 11800 SE Mt. Scott Blvd. Portland\, OR \n***Remember to Meet at the Rostrum (Flag Pole). Go up the hill to the entrance across from Lincoln Memorial go either left or right then turn up the hill to the Flag Pole. \nStaging Time: 1:35 pm (1335 hrs) \nBriefing: 1:40 pm (1340 hrs) \nKSU: 1:45 (1345 hrs) for a short ride to another part of the cemetery.\n \n\n\n\n\nServices: 2:00 pm (1400 hrs)
URL:https://www.patriotguard.org/mission/memorial-480/
CATEGORIES:Archive
END:VEVENT
END:VCALENDAR