BEGIN:VCALENDAR
VERSION:2.0
PRODID:-//Patriot Guard Riders - ECPv5.6.0//NONSGML v1.0//EN
CALSCALE:GREGORIAN
METHOD:PUBLISH
X-WR-CALNAME:Patriot Guard Riders
X-ORIGINAL-URL:https://www.patriotguard.org
X-WR-CALDESC:Events for Patriot Guard Riders
BEGIN:VTIMEZONE
TZID:America/New_York
BEGIN:DAYLIGHT
TZOFFSETFROM:-0500
TZOFFSETTO:-0400
TZNAME:EDT
DTSTART:20160313T070000
END:DAYLIGHT
BEGIN:STANDARD
TZOFFSETFROM:-0400
TZOFFSETTO:-0500
TZNAME:EST
DTSTART:20161106T060000
END:STANDARD
END:VTIMEZONE
BEGIN:VEVENT
DTSTART;TZID=America/New_York:20160702T090000
DTEND;TZID=America/New_York:20160702T110000
DTSTAMP:20210512T124127
CREATED:20160702T130000Z
LAST-MODIFIED:20191201T153640Z
UID:415307-1467450000-1467457200@www.patriotguard.org
SUMMARY:Memorial
DESCRIPTION:The Family of Randall Kanitz have invited the Patriot Guard Riders to stand in his Honor at a Memorial Service to be held in Oakland\, IL as part of the Oakland VFW 4th of July celebration.  Sgt. Kanitz received the Bronze Star Medal with “V” Device\, the Commendation medal and the Purple Heart for heroism in ground combat against a hostile force in the Republic of Vietnam. \nMr. Kanitz passed away in November 2007 and was buried in the Oak Grove Cemetery in Oakland. The Oakland VFW has selected Mr. Kanitz to be honored this day for his service to our Great Nation. Please join us to help pay tribute and show our respect in appreciation for his service to our Great Country at this Memorial Service. \nStaging: 1600 hrs. (4:00 pm) at Miller Park\n509 Reel Street\, Oakland\, IL\nBriefing: 1700 hrs. (5:00 pm) We will establish our flag line following the briefing. \nRide Captains:\nVic Buraglio\n217-369-0484 \nDave Elliott\n217-414-9873
URL:https://www.patriotguard.org/mission/memorial-479/
CATEGORIES:Archive
END:VEVENT
END:VCALENDAR