BEGIN:VCALENDAR
VERSION:2.0
PRODID:-//Patriot Guard Riders - ECPv5.6.0//NONSGML v1.0//EN
CALSCALE:GREGORIAN
METHOD:PUBLISH
X-WR-CALNAME:Patriot Guard Riders
X-ORIGINAL-URL:https://www.patriotguard.org
X-WR-CALDESC:Events for Patriot Guard Riders
BEGIN:VTIMEZONE
TZID:America/New_York
BEGIN:DAYLIGHT
TZOFFSETFROM:-0500
TZOFFSETTO:-0400
TZNAME:EDT
DTSTART:20140309T070000
END:DAYLIGHT
BEGIN:STANDARD
TZOFFSETFROM:-0400
TZOFFSETTO:-0500
TZNAME:EST
DTSTART:20141102T060000
END:STANDARD
END:VTIMEZONE
BEGIN:VEVENT
DTSTART;TZID=America/New_York:20141012T090000
DTEND;TZID=America/New_York:20141012T110000
DTSTAMP:20210512T082324
CREATED:20141012T130000Z
LAST-MODIFIED:20191201T122018Z
UID:388942-1413104400-1413111600@www.patriotguard.org
SUMMARY:Memorial
DESCRIPTION:[FONT=&quot]PATRIOT GUARD RIDERS[/FONT][FONT=&quot][/FONT]\n\n\n\n\n[FONT=&quot]YOUR PRESENCE HAS BEEN REQUESTED[/FONT][FONT=&quot][/FONT]\n\n\n\n\n[FONT=&quot]National Fallen Firefighter Memorial[/FONT]\n\n\n\n\n[FONT=&quot]Girard Fire Department[/FONT][FONT=&quot][/FONT]\n\n\n\n\n[FONT=&quot]12 Oct 2014[/FONT]\n\n\n\n\n[FONT=&quot]Girard\, KS[/FONT]\n\n\n[FONT=&quot] [/FONT]\n[FONT=&quot] [/FONT]\n[FONT=&quot]The Patriot Guard Riders have been invited to the 27th annual Girard Fallen Firefighters Memorial at the Girard\, Kansas Fire Station.  The memorial will begin at 3:00 PM. We will stage at Pete’s Gas Station 220 N Summit Street Girard\, KS 66743 at 2:15\, KSU at approximately 2:55 to ride in to begin the ceremony\, and then stand a flag line on the perimeter of the fire station.  The ceremony will last approximately 45-60 minutes.  The service will consist of an invocation\, speeches by guests/dignitaries\, a laying of a memorial wreath\, the flags being moved to half mast\, and the reading of the names of all of the firefighters killed in the line of duty in 2013.  After the memorial\, there will be light refreshments available in the fire station. [/FONT]\n[FONT=&quot] [/FONT]\n[FONT=&quot]Staging:[/FONT]\n[FONT=&quot] [/FONT]\n[FONT=&quot]1415 hrs. (2:15 pm) – Stage at Pete’s Gas Station 220 N Summit St Girard\, KS 66743[/FONT]\n[FONT=&quot] [/FONT]\n[FONT=&quot]1440 hrs. (2:40 pm) – Ride Briefing[/FONT]\n[FONT=&quot] [/FONT]\n[FONT=&quot]1455 hrs. (2:55 pm) – Kick Stands Up to leave for Girard Fire Station[/FONT]\n[FONT=&quot] [/FONT]\n[FONT=&quot]1505 hrs. (3:05 pm) – Man flag line at Girard Fire Station[/FONT] \n—\nThanks for all you do\, \n\nKevin (Scoop) Wagner\n\nRide Captain\n\n620.215.2174
URL:https://www.patriotguard.org/mission/memorial-298/
CATEGORIES:Archive
END:VEVENT
END:VCALENDAR