BEGIN:VCALENDAR
VERSION:2.0
PRODID:-//Patriot Guard Riders - ECPv5.3.2.1//NONSGML v1.0//EN
CALSCALE:GREGORIAN
METHOD:PUBLISH
X-WR-CALNAME:Patriot Guard Riders
X-ORIGINAL-URL:https://www.patriotguard.org
X-WR-CALDESC:Events for Patriot Guard Riders
BEGIN:VTIMEZONE
TZID:America/New_York
BEGIN:DAYLIGHT
TZOFFSETFROM:-0500
TZOFFSETTO:-0400
TZNAME:EDT
DTSTART:20150308T070000
END:DAYLIGHT
BEGIN:STANDARD
TZOFFSETFROM:-0400
TZOFFSETTO:-0500
TZNAME:EST
DTSTART:20151101T060000
END:STANDARD
END:VTIMEZONE
BEGIN:VEVENT
DTSTART;TZID=America/New_York:20150525T090000
DTEND;TZID=America/New_York:20150525T110000
DTSTAMP:20210406T001909
CREATED:20150525T130000Z
LAST-MODIFIED:20191201T121900Z
UID:388684-1432544400-1432551600@www.patriotguard.org
SUMMARY:Memorial
DESCRIPTION:Memorial Day Honors\nChestertown\, MD\n25 May 2015 \nThe Patriot Guard Riders have been invited once again by The Frank M. Jarman American Legion Post # 36 in Chestertown\, MD to a special Memorial Day service and procession in Chestertown\, MD on Monday May 25\, 2015. \nThis year Post 36 will be honoring Robert A. MOORE. \nhttp://www.legacy.com/obituaries/baltimoresun/obituary.aspx?n=robert-a-moore&pid=150602014 \n\nThe Patriot Guard Riders will honor this hero by standing a flag line during the service recounting his accomplishments\, After we complete the cemetery honors the PGR has been invited to participate in the procession to the Chestertown town center for a short veteran recognition ceremony. \nI will be hosting a preliminary rally point at the 7-Eleven at the corner of MD 50 and MD 213 at Wye Mills\, MD. We will leave this point and proceed on MD 213 to the final rally point at the 7-Eleven at 212 S. Maple AVE\, Chestertown\, MD. Anyone wishing to fall in line on the way will be welcome to do so. This distance is approximately 22 miles. \nFrom the final rally point at the 7-Eleven  at 212 South Maple Avenue\,  Chestertown\, MD (the corner of Maple Ave and MD 213)\,  we will all ride to St. Paul’s Episcopal Cemetery\, 7579 Sandy Bottom Rd. Chestertown\, MD 21620 and set the flag line. This distance is approximately 10 miles. \nThe procession following the cemetery ceremony is completely voluntary. Those who do not wish to participate in it may leave following the cemetery honors. We will travel from the cemetery directly to the assembly point at 100 Dixon Rd. Chestertown\, MD (Approximately 6 miles). The procession itself is only about 1 mile long. We are welcome to participate in the short ceremony at the processions end point. \nThis event is open to all who wish to honor our veterans and those who sacrificed for our country. Come on iron horses or in cages – all will be welcome. 3′ x 5′ flags will be needed for the flag line at the cemetery. If you are going to participate in the procession – safely mounted large flags are welcome\, or decorate your iron steed anyway you wish – as long as it’s safe. \nFood and gas are available at\, or near\,  both rally points. \nThis event will be conducted on Memorial Day Monday 26 May\, 2014. Rain or shine.  Weather is forecasted to be in the upper 80’s . Watch for local weather updates as it is very changeable this time of year. Please bring drinks to stay hydrated and dress appropriately. We will be standing in direct sunlight for most of this ceremony and heat can be an issue for those not accustomed to it. \nThere will be a very limited number of extra flags available. Bring 3×5 handheld flags on poles for the Flag Line. \nPreliminary Rally Point: 7Eleven @ MD 50 and MD 213\nTime: 0630 – KSU 0645 \nFinal Rally Point: 7Eleven @ MD 213 and MD 544\nTime: 0715- KSU 0730 \nCemetery Honors : 0830 – 0945 (approximately) \nProcession: 1000 – 1100 (approximately) \nPlease watch this thread for possible changes. \nRide Safe. I hope to see many of you there. \nRide Captain: Jim “Bubba” Hutson\,\njimbarbhutson@atlanticbb.net\n410-827-4718 \nBill Staats\nMD&DC State Captain
URL:https://www.patriotguard.org/mission/memorial-144/
CATEGORIES:Archive
END:VEVENT
END:VCALENDAR