BEGIN:VCALENDAR
VERSION:2.0
PRODID:-//Patriot Guard Riders - ECPv5.6.0//NONSGML v1.0//EN
CALSCALE:GREGORIAN
METHOD:PUBLISH
X-WR-CALNAME:Patriot Guard Riders
X-ORIGINAL-URL:https://www.patriotguard.org
X-WR-CALDESC:Events for Patriot Guard Riders
BEGIN:VTIMEZONE
TZID:America/New_York
BEGIN:DAYLIGHT
TZOFFSETFROM:-0500
TZOFFSETTO:-0400
TZNAME:EDT
DTSTART:20160313T070000
END:DAYLIGHT
BEGIN:STANDARD
TZOFFSETFROM:-0400
TZOFFSETTO:-0500
TZNAME:EST
DTSTART:20161106T060000
END:STANDARD
END:VTIMEZONE
BEGIN:VEVENT
DTSTART;TZID=America/New_York:20160618T090000
DTEND;TZID=America/New_York:20160618T110000
DTSTAMP:20210513T085058
CREATED:20160618T130000Z
LAST-MODIFIED:20191201T145040Z
UID:411248-1466240400-1466247600@www.patriotguard.org
SUMMARY:Melvin Smith\, USMC\, Vietnam / Apex
DESCRIPTION:Fellow Patriots\, \nWe have been invited to stand for US Marine Corps Veteran PFC Melvin Smith as he stood for us. PFC Smith served in Vietnam September 1968 until December 1969.We will establish a flag line prior to the service at Albright Funeral Home in Apex\, NC and stand down when the service begins. We will render honors following the service and escort to Montlawn Memorial Park in Raleigh where we will also have a flag line. Details follow: \nDate: Saturday\, June 18\, 2016 \nLocation: Albright Funeral Home\n500 S. Salem St.\nApex\, NC 27502\nhttp://goo.gl/WMjZZg \nStaging:   11:45 AM\nBriefing:   12:00 NOON\nFlag line:   Immediately following briefing. \nLink for Directions: http://goo.gl/WMjZZg \nBurial:  Montlawn Memorial Park\n2911 S. Wilmington St.\nRaleigh\, NC 27603\nhttp://goo.gl/2nk3Pg \n***Anyone planning on being a part of the escort MUST attend the mission brief.  If you have flags for your bikes\, please fly them during the escort. \nRC:  Randy Bright\n919-616-4603 \nSPECIAL NOTE: Safety is of our utmost priority. Every effort possible is made in planning and executing the PGR Mission statement in a manner that minimizes the inherit dangers of riding a motorcycle\, including riding in groups of all sizes and any situation. While the NCPG and its riders have a remarkable safety record in the execution of our missions\, infrequently members have been injured in unforeseen accidents. In an effort to mitigate the risk of preventable accidents\, all attendees who wish to ride in a Patriot Guard motorcycle escort or ride are asked to attend the pre-mission briefing. It will include a safety briefing\, and any unique ride information known to our RCIC that may be specific to the mission. Member safety and well-being is always a principal ongoing concern. Our RCIC’s are asked to stand-down from any mission that cannot be accomplished in relative safety or present unreasonable risk. This includes both rides and flag lines in inclement weather and conditions. It remains each individual PGR member’s responsibility to ride within their own comfort zone and be cognizant of their surroundings and skill limitations as well as any physical needs or limitations. If the ride and/or mission conditions present challenges beyond your skill\, comfort\, or needs you are expected to exercise good judgment in foregoing any planned participation.
URL:https://www.patriotguard.org/mission/melvin-smith-usmc-vietnam-apex/
CATEGORIES:Archive
END:VEVENT
END:VCALENDAR