BEGIN:VCALENDAR
VERSION:2.0
PRODID:-//Patriot Guard Riders - ECPv5.6.0//NONSGML v1.0//EN
CALSCALE:GREGORIAN
METHOD:PUBLISH
X-WR-CALNAME:Patriot Guard Riders
X-ORIGINAL-URL:https://www.patriotguard.org
X-WR-CALDESC:Events for Patriot Guard Riders
BEGIN:VTIMEZONE
TZID:America/New_York
BEGIN:DAYLIGHT
TZOFFSETFROM:-0500
TZOFFSETTO:-0400
TZNAME:EDT
DTSTART:20160313T070000
END:DAYLIGHT
BEGIN:STANDARD
TZOFFSETFROM:-0400
TZOFFSETTO:-0500
TZNAME:EST
DTSTART:20161106T060000
END:STANDARD
END:VTIMEZONE
BEGIN:VEVENT
DTSTART;TZID=America/New_York:20160825T090000
DTEND;TZID=America/New_York:20160825T110000
DTSTAMP:20210512T010837
CREATED:20160825T130000Z
LAST-MODIFIED:20191201T143337Z
UID:409681-1472115600-1472122800@www.patriotguard.org
SUMMARY:Melvin G Knapton\, USN
DESCRIPTION:[URL=”imap://Mods-2%40PatriotGuard%2Eorg@svcs.patriotguard.org:993/fetch%3EUID%3E.INBOX%3E66280″]SK3 Melvin G Knapton[/URL]\n\n\n\nU.S. Navy\n\n\n\nThe Patriot Guard Riders have been requested to stand a flag line for SK3 Melvin G Knapton. \nSK3 Melvin G Knapton served in the U.S. Navy during WW II. SK3 Melvin G Knapton served aboard the aircraft carrier USS Kent Island in the Pacific. \nThis will be a Veterans format. The service will be at the LDS church on 5750 S Nena Way in Murray at 11:00 AM on Thursday\, August 25\, 2016. We will stand a flag line at the church and then escort SK3 Melvin G Knapton to his final resting place in the Murray City Cemetery on 5490 S Vine St in Murray\, where we will stand another flag line. \nThe ride captain for this mission will be Dave Richardson and he can be reached at: 801-641-6009. \nStaging: 11:00 AM at 7-Eleven\, 5900 State St\, Murray.\nKSU: 11:30 AM \nWeather: Mostly sunny with a high of 84. Please dress accordingly and keep yourself hydrated. \nAnyone attending in a cage and willing to transport flags please contact Dave Richardson at: 801-641-6009.
URL:https://www.patriotguard.org/mission/melvin-g-knapton-usn/
CATEGORIES:Archive
END:VEVENT
END:VCALENDAR