BEGIN:VCALENDAR
VERSION:2.0
PRODID:-//Patriot Guard Riders - ECPv5.3.2.1//NONSGML v1.0//EN
CALSCALE:GREGORIAN
METHOD:PUBLISH
X-WR-CALNAME:Patriot Guard Riders
X-ORIGINAL-URL:https://www.patriotguard.org
X-WR-CALDESC:Events for Patriot Guard Riders
BEGIN:VTIMEZONE
TZID:America/New_York
BEGIN:DAYLIGHT
TZOFFSETFROM:-0500
TZOFFSETTO:-0400
TZNAME:EDT
DTSTART:20190310T070000
END:DAYLIGHT
BEGIN:STANDARD
TZOFFSETFROM:-0400
TZOFFSETTO:-0500
TZNAME:EST
DTSTART:20191103T060000
END:STANDARD
END:VTIMEZONE
BEGIN:VEVENT
DTSTART;VALUE=DATE:20190824
DTEND;VALUE=DATE:20190825
DTSTAMP:20210402T082846
CREATED:20190823T050449Z
LAST-MODIFIED:20190823T050449Z
UID:171699-1566604800-1566691199@www.patriotguard.org
SUMMARY:Melcher W. Harding
DESCRIPTION:Honor Mission\nMelcher W. Harding\, Veteran\nUSMC – Vietnam\nElsberry\, Missouri – 08-24-19\n\n\n\nABOUT THE MISSION: \nThe family of Melcher W. “Mick” Harding\, 66\, has honored the Patriot Guard by requesting our presence at the celebration of life and escort to the final resting place of their loved one. Mr Harding served our great nation in the Marine Corps during the Vietnam war earning the rank of Corporal\, The Expert Rifleman Badge\, Good Conduct Medal\,and National Defense Service Medal along with numerous other awards and decorations. Mr Harding then worked as a Police Officer and Sheriffs deputy for the Lincoln County Sheriffs Dept retiring in 2002. He then worked as a security officer at Mercy hospital in Troy. He was also a member of American Legion Post 349 in Clarksville Mo.\n\n\nPRIMARY STAGING DETAILS: 08-24-19 \nStaging Time: 10:00 AM\n \nCarter Ricks Funeral Home\n107 South Fifth Street\nElsberry\, Missouri 63343\n\n\nRide Captain: \nRC and Flags Robert Smith\, bobsmithesq4@gmail.com\n\n\nSpecial Instructions: \nWe will escort Mr Harding to Eolia Cemetery\, Eolia Mo. following 11.00 service\, around 20 miles..\nGravel road in cemetery. Bring kickstand pad due to recent rains.\nPlease Hydrate and dress wisely.\n\n\nFlags & Water:\nFlags will be provided\nIf you have large bike flags\, please bring them.\nWater WILL NOT be provided\, please bring your own.\n\n\n\nSubmitted By: Robert Smith \nPosition: Missouri Ride Captain \n\nNote: You do not have to own/ride a motorcycle or be a veteran to join\, and membership is Free. The only requirement is RESPECT! To subscribe to receive mission notices\, log into the National Site and click on the Members tab at the top. Select the Subscribe to PGR Missions option.\n Print This Page
URL:https://www.patriotguard.org/mission/melcher-w-harding/
CATEGORIES:Honor Mission
END:VEVENT
END:VCALENDAR