BEGIN:VCALENDAR
VERSION:2.0
PRODID:-//Patriot Guard Riders - ECPv5.3.2.1//NONSGML v1.0//EN
CALSCALE:GREGORIAN
METHOD:PUBLISH
X-WR-CALNAME:Patriot Guard Riders
X-ORIGINAL-URL:https://www.patriotguard.org
X-WR-CALDESC:Events for Patriot Guard Riders
BEGIN:VTIMEZONE
TZID:America/New_York
BEGIN:DAYLIGHT
TZOFFSETFROM:-0500
TZOFFSETTO:-0400
TZNAME:EDT
DTSTART:20190310T070000
END:DAYLIGHT
BEGIN:STANDARD
TZOFFSETFROM:-0400
TZOFFSETTO:-0500
TZNAME:EST
DTSTART:20191103T060000
END:STANDARD
END:VTIMEZONE
BEGIN:VEVENT
DTSTART;VALUE=DATE:20190614
DTEND;VALUE=DATE:20190615
DTSTAMP:20210405T135237
CREATED:20190611T171724Z
LAST-MODIFIED:20190611T185916Z
UID:164448-1560470400-1560556799@www.patriotguard.org
SUMMARY:Meet and Greet
DESCRIPTION:  \n\nHOTH Mission\nMeet and Greet\, Veteran\nUSA USMC USN USAF USCG –  WWII\, Korea\, Vietnam\nPort Charlotte\, Florida – 06-14-19\n\n\n \n\nABOUT THE MISSION: \nThe staff at Village Place Health and Rehab Center has invited the Patriot Guard Riders to stand a flag line as they honor their veterans when they come to lunch\, and then have a meet and greet with them. Following lunch they will have a flag folding ceremony.\nPlease bring your 3×5 American flags and stand for these heroes to let them know that we appreciate them.\n\n\nPRIMARY STAGING DETAILS: 06-14-19 \nStaging Time: 1:45 pm  \nVillage Place Health and Rehab Center\n2370 Harbor Blvd.\nPort Charlotte\, Florida 33952\n\n\nRide Captain: \nHenry (Chief 09 ) Hyde\nhhydetkd@gmail.com\n727-798-0220\n\n\nSpecial Instructions: \n1:45 pm – Stage\n2:00 pm – Brief\nFlag Line as determined by R/C\n\n\nFlags & Water:\nFlags will not be provided\nIf you have large bike flags\, please bring them.\nWater WILL NOT be provided\, please bring your own.\n  \n\n\nSubmitted By: Henry Hyde \nPosition: Florida Assistant State Captain \n\nNote: You do not have to own/ride a motorcycle or be a veteran to join\, and membership is Free. The only requirement is RESPECT! To subscribe to receive mission notices\, log into the National Site and click on the Members tab at the top. Select the Subscribe to PGR Missions option.\n Print This Page
URL:https://www.patriotguard.org/mission/meet-and-greet/
CATEGORIES:HOTH Mission
END:VEVENT
END:VCALENDAR