BEGIN:VCALENDAR
VERSION:2.0
PRODID:-//Patriot Guard Riders - ECPv5.6.0//NONSGML v1.0//EN
CALSCALE:GREGORIAN
METHOD:PUBLISH
X-WR-CALNAME:Patriot Guard Riders
X-ORIGINAL-URL:https://www.patriotguard.org
X-WR-CALDESC:Events for Patriot Guard Riders
BEGIN:VTIMEZONE
TZID:America/New_York
BEGIN:DAYLIGHT
TZOFFSETFROM:-0500
TZOFFSETTO:-0400
TZNAME:EDT
DTSTART:20160313T070000
END:DAYLIGHT
BEGIN:STANDARD
TZOFFSETFROM:-0400
TZOFFSETTO:-0500
TZNAME:EST
DTSTART:20161106T060000
END:STANDARD
END:VTIMEZONE
BEGIN:VEVENT
DTSTART;TZID=America/New_York:20160715T090000
DTEND;TZID=America/New_York:20160715T110000
DTSTAMP:20210512T142209
CREATED:20160715T130000Z
LAST-MODIFIED:20191201T144355Z
UID:410636-1468573200-1468580400@www.patriotguard.org
SUMMARY:MCPO Russell W. Barnes\, 87
DESCRIPTION:MCPO Russell W. Barnes\, 87\nU.S. Navy Retired\nLake Worth\, FL\nFriday\, July 15\, 2016\n\n\n\nThe family of MCPO Russell W. Barnes has graciously requested the Patriot Guard Rider’s presence as they show their final respects and lay their loved one to rest.  MCPO Barnes served his Country in the U.S. Navy and performed duties as a Boatswain Mate & Navy SEAL Team member. \nMCPO Barnes’s combined active duty and reserve duty service totaled an astonishing 41 years\, 6 months of faithful service to his Country.  During MCPO Barnes’s service\, he was deployed to several locations for various lengths of time\, for which the family had no knowledge of his location or when he would return home. \nUpon completion of his military career\, MCPO Barnes received an Honorable Discharge.  Unfortunately\, no additional military related information is available at this time. \nPlease bring your 3 X 5 American Flags and join us as we stand in silent Honor and Respect for our U.S. Navy Hero and his family. \nItinerary: \nSouth Florida National Cemetery\n6501 SR 7\nLake Worth\, FL.\, 33449\nMap: https://goo.gl/h2KU43 \nStage: 01100 hrs \nBrief: 1115 hrs \nFlag Line: As determined by Ride Captain \nService: 1130 hrs \nRide Captain:    TBD \nContact:\nDavid “Flyboy” Shelton\nFlorida ASC\ndshelton01@aol.com
URL:https://www.patriotguard.org/mission/mcpo-russell-w-barnes-87/
END:VEVENT
END:VCALENDAR