BEGIN:VCALENDAR
VERSION:2.0
PRODID:-//Patriot Guard Riders - ECPv5.6.0//NONSGML v1.0//EN
CALSCALE:GREGORIAN
METHOD:PUBLISH
X-WR-CALNAME:Patriot Guard Riders
X-ORIGINAL-URL:https://www.patriotguard.org
X-WR-CALDESC:Events for Patriot Guard Riders
BEGIN:VTIMEZONE
TZID:America/New_York
BEGIN:DAYLIGHT
TZOFFSETFROM:-0500
TZOFFSETTO:-0400
TZNAME:EDT
DTSTART:20160313T070000
END:DAYLIGHT
BEGIN:STANDARD
TZOFFSETFROM:-0400
TZOFFSETTO:-0500
TZNAME:EST
DTSTART:20161106T060000
END:STANDARD
END:VTIMEZONE
BEGIN:VEVENT
DTSTART;TZID=America/New_York:20160709T090000
DTEND;TZID=America/New_York:20160709T110000
DTSTAMP:20210512T163737
CREATED:20160709T130000Z
LAST-MODIFIED:20191201T144503Z
UID:410738-1468054800-1468062000@www.patriotguard.org
SUMMARY:MCPO Robert Lincoln Wells Sr\, USN(RET)\, WWII / Leeds
DESCRIPTION:[FONT=&amp]MCPO [/FONT][FONT=&amp]Robert Lincoln Wells Sr.[/FONT]\n\n[FONT=&amp]US Navy Retired\nWWII Veteran[/FONT]\n\n[FONT=&amp]Leeds\, AL\n[FONT=&amp]09 July 2016[/FONT]\n[/FONT]\n\n\n\n[FONT=&amp]The Patriot Guard Riders has been requested by the family to stand and ride for MCPO Wells. The Patriot Guard Riders were requested to escort and stand a flag line for this Hero. MCPO Wells served in the US Navy and The Birmingham Fire Department. He answered the call of duty\, so the Patriot Guard Riders will be honored to stand and escort him to The Alabama National Cemetery at this time[/FONT] \n[FONT=&amp]Staging 1:[/FONT][FONT=&amp] 8:45 AM\, 09 July 2016 (Family Visitation @ 9:00 Public Visitation @ 9:30 Service @ 11:00)[/FONT]\n[FONT=&amp]    Kilgore Funeral Home[/FONT]\n[FONT=&amp]    1750 Ashville Rd[/FONT]\n[FONT=&amp]    Leeds\, AL 35094[/FONT] \n[FONT=&amp]Staging 2:[/FONT][FONT=&amp] Forest Crest Cemetery[/FONT]\n[FONT=&amp]    5730 Hwy 78 East[/FONT]\n[FONT=&amp]    Birmingham\, AL 35210[/FONT] \n[FONT=&amp]Weather: High of 94[/FONT]\n\n[FONT=&amp]RCIC:[/FONT][FONT=&amp] Eddy Chapin[/FONT]\n[FONT=&amp]             205-475-1058[/FONT]\n[FONT=&amp]             eddybugn@bellsouth.net[/FONT]
URL:https://www.patriotguard.org/mission/mcpo-robert-lincoln-wells-sr-usnret-wwii-leeds/
CATEGORIES:Archive
END:VEVENT
END:VCALENDAR