BEGIN:VCALENDAR
VERSION:2.0
PRODID:-//Patriot Guard Riders - ECPv5.6.0//NONSGML v1.0//EN
CALSCALE:GREGORIAN
METHOD:PUBLISH
X-WR-CALNAME:Patriot Guard Riders
X-ORIGINAL-URL:https://www.patriotguard.org
X-WR-CALDESC:Events for Patriot Guard Riders
BEGIN:VTIMEZONE
TZID:America/New_York
BEGIN:DAYLIGHT
TZOFFSETFROM:-0500
TZOFFSETTO:-0400
TZNAME:EDT
DTSTART:20160313T070000
END:DAYLIGHT
BEGIN:STANDARD
TZOFFSETFROM:-0400
TZOFFSETTO:-0500
TZNAME:EST
DTSTART:20161106T060000
END:STANDARD
END:VTIMEZONE
BEGIN:VEVENT
DTSTART;TZID=America/New_York:20160819T090000
DTEND;TZID=America/New_York:20160819T110000
DTSTAMP:20210511T194152
CREATED:20160819T130000Z
LAST-MODIFIED:20191201T143512Z
UID:409827-1471597200-1471604400@www.patriotguard.org
SUMMARY:MCPO Jack Carl Straight\, 80
DESCRIPTION:Master Chief Jack Carl Straight\, 80\nUnited States Navy Veteran\nAlabama State Veterans Memorial Cemetery\nSpanish Fort\, AL\nFriday\, 19 August 2016\n\n\n\nFellow Riders\, \nIt is with a heavy heart that I must inform you that America has lost another True American HERO. The family of Jack Carl Straight has invited the Patriot Guard Riders to stand for their loved one. \nChief Jack Carl Straight passed away Tuesday\, 16 August 2016 at the age of 80. Chief Straight served in the United States Navy 20 years 7 months and 11 days. He received a National Defense Ribbon\, Good Conduct Medal and Meritorious Unit Citation\, being discharged with an Honorable Discharge as the rank of TMC. Other awards and commendations are unknown. \nThe Patriot Guard Riders are honored to stand a silent flag line for this American Hero at the ASVMC committal shelter during the 2:30 service. \nUnited States Navy will provide full military honors. \nSTAGING INFO: Baldwin County Staging Location:\nOld Dollar General\nHwy 225 & Hwy 31\nSpanish Fort\, AL \nTime: 1:30 p.m. \nBriefing: 1:40 p.m. \nKSU: 1:50 p.m. \nRCIC:\nGerald Hagan\, SRC\n251-214-7147 \nFlags and Support: Committal shelter \nMr. Straight stood many a hard day and night so that we might be safe and free. Now it is our turn to stand and honor him for his service and sacrifice. Ride safely! \nWith Respect\,\nLloyd Pursley
URL:https://www.patriotguard.org/mission/mcpo-jack-carl-straight-80/
CATEGORIES:Archive
END:VEVENT
END:VCALENDAR