BEGIN:VCALENDAR
VERSION:2.0
PRODID:-//Patriot Guard Riders - ECPv5.3.2.1//NONSGML v1.0//EN
CALSCALE:GREGORIAN
METHOD:PUBLISH
X-WR-CALNAME:Patriot Guard Riders
X-ORIGINAL-URL:https://www.patriotguard.org
X-WR-CALDESC:Events for Patriot Guard Riders
BEGIN:VTIMEZONE
TZID:America/New_York
BEGIN:DAYLIGHT
TZOFFSETFROM:-0500
TZOFFSETTO:-0400
TZNAME:EDT
DTSTART:20190310T070000
END:DAYLIGHT
BEGIN:STANDARD
TZOFFSETFROM:-0400
TZOFFSETTO:-0500
TZNAME:EST
DTSTART:20191103T060000
END:STANDARD
END:VTIMEZONE
BEGIN:VEVENT
DTSTART;VALUE=DATE:20190905
DTEND;VALUE=DATE:20190906
DTSTAMP:20210401T112305
CREATED:20190904T101114Z
LAST-MODIFIED:20190904T101114Z
UID:172734-1567641600-1567727999@www.patriotguard.org
SUMMARY:McKenzie Howe Yager
DESCRIPTION:Honor Mission\nMcKenzie Howe Yager\, Retired\nUSAF – Vietnam\nGreenville\, Texas – 09-05-19\n\n\n\nABOUT THE MISSION: \nTSgt Yager served 20 years\, from 1961 until 1981\, with the United State Air Force. His awards include Small Arms Expert Marksmanship Ribbon\, Air Force Longevity Service Ribbon with 4 Oak Leaf Clusters. Air Force Outstanding Unit Award with 1 Oak Leaf Cluster\, National Defense Service Medal\, Vietnam Service Medal with 1 Bronze Service Star\, Air Force Good Conduct Medal with 5 Oak Leaf Clusters and Basic Aircrew badge.\n\n\nPRIMARY STAGING DETAILS: 09-05-19 \nStaging Time: 1:00 PM\n \nLynch Funeral Home\n4238 State Highway 34 South\nGreenville\, Texas 75402\n\n\nRide Captain: \nJim Wiggins\njimwtx@verizon.net\n(903) 217-4066\n\n\nSpecial Instructions: \nStaging Time: 1pm\nBriefing Time: 1:15pm\nIn Position/KSU Time: 1:30pm\nStarting Time: 2pm\nA mission briefing will be held\, and the riders will establish the Flag Line for the funeral service. When the service begins\, flags will be returned to the support vehicle to relocate to the interment site detailed in part 2 of this mission. Riders participating in the procession will receive a safety briefing and ready the bikes to accompany Mr. Yager\, family and friends in the procession to the interment site.\nProcession: Escort Provided\n\n\nFlags & Water:\nFlags will be provided\nIf you have large bike flags\, please bring them.\nWater will be provided.\n\nSTAGING #2 DETAILS: 09-05-19 \nStaging Time: 2:15 PM\n \nMemoryland Memorial Park\n808 W Jack Finney Blvd\nGreenville\, Texas 75402\n\n\nRide Captain: \nJim Wiggins\njimwtx@verizon.net\n(903) 217-4066\n\n\nSpecial Instructions: \nStaging Time: 2:15pm\nPart 2 Briefing Time: 2:30pm\nPart 2 In Position/KSU Time: 2:45pm\nPart 2 Starting Time: 3pm\nRiders at this location will set the flags and await the arrival of Mr. Yager\, family and friends. Riders will man the flag line and stand tall and silent during the Interment Service. When directed\, flags will be returned to the support vehicle\, furled and stowed. Riders will then be debriefed and dismissed.\nNOTE: Times are estimated for this portion since length of the preceding service and transit time to the cemetery are uncertain.\n\n\nFlags & Water:\nFlags will be provided\nLarge Bike Flags will NOT be needed.\nWater will be provided.\n\n\n\nSubmitted By: Dan Mathys \nPosition: Texas Ride Captain \n\nNote: You do not have to own/ride a motorcycle or be a veteran to join\, and membership is Free. The only requirement is RESPECT! To subscribe to receive mission notices\, log into the National Site and click on the Members tab at the top. Select the Subscribe to PGR Missions option.\n Print This Page
URL:https://www.patriotguard.org/mission/mckenzie-howe-yager/
CATEGORIES:Honor Mission
END:VEVENT
END:VCALENDAR