BEGIN:VCALENDAR
VERSION:2.0
PRODID:-//Patriot Guard Riders - ECPv5.3.2.1//NONSGML v1.0//EN
CALSCALE:GREGORIAN
METHOD:PUBLISH
X-WR-CALNAME:Patriot Guard Riders
X-ORIGINAL-URL:https://www.patriotguard.org
X-WR-CALDESC:Events for Patriot Guard Riders
BEGIN:VTIMEZONE
TZID:America/New_York
BEGIN:DAYLIGHT
TZOFFSETFROM:-0500
TZOFFSETTO:-0400
TZNAME:EDT
DTSTART:20190310T070000
END:DAYLIGHT
BEGIN:STANDARD
TZOFFSETFROM:-0400
TZOFFSETTO:-0500
TZNAME:EST
DTSTART:20191103T060000
END:STANDARD
END:VTIMEZONE
BEGIN:VEVENT
DTSTART;VALUE=DATE:20190816
DTEND;VALUE=DATE:20190817
DTSTAMP:20210402T153706
CREATED:20190814T184217Z
LAST-MODIFIED:20190814T184217Z
UID:170919-1565913600-1565999999@www.patriotguard.org
SUMMARY:McConnell L. Rosborough
DESCRIPTION:Honor Mission\nMcConnell L. Rosborough\, Veteran\nUSAF – Korea\nMarshall\, Texas – 08-16-19\n\n\n\nABOUT THE MISSION: \nMr. McConnell joined the United States Air Force in 1953. He trained and served as a medic until honorably discharged in 1957.\nObituary\n\n\nPRIMARY STAGING DETAILS: 08-16-19 \nStaging Time: 11:00 AM\n \nEbenezer United Methodist Church\n908 Whetstone Street\nMarshall\, Texas 75670\nMap\n\n\nRide Captain: \nBill Parrish\n903-926-1962\nbparrish4x4@gmail.com\n\n\nSpecial Instructions: \nStage: 11:00 am to 11:30 am\nRiders meeting at 11:30 am.\nDirections to the cemetery will be given by the Ride Captain.\nBIG FLAG BIKES ARE REQUESTED.\nPlease remain flexible as to the requirements of the mission.\n(SEMPER GUMBY)\n\n\nFlags & Water:\nFlags will be provided\nIf you have large bike flags\, please bring them.\nWater will be provided.\n\n\n\nSubmitted By: Michael Eubank \nPosition: Texas Deputy State Captain \n\nNote: You do not have to own/ride a motorcycle or be a veteran to join\, and membership is Free. The only requirement is RESPECT! To subscribe to receive mission notices\, log into the National Site and click on the Members tab at the top. Select the Subscribe to PGR Missions option.\n Print This Page
URL:https://www.patriotguard.org/mission/mcconnell-l-rosborough/
CATEGORIES:Honor Mission
END:VEVENT
END:VCALENDAR