BEGIN:VCALENDAR
VERSION:2.0
PRODID:-//Patriot Guard Riders - ECPv5.3.2.1//NONSGML v1.0//EN
CALSCALE:GREGORIAN
METHOD:PUBLISH
X-WR-CALNAME:Patriot Guard Riders
X-ORIGINAL-URL:https://www.patriotguard.org
X-WR-CALDESC:Events for Patriot Guard Riders
BEGIN:VTIMEZONE
TZID:America/New_York
BEGIN:DAYLIGHT
TZOFFSETFROM:-0500
TZOFFSETTO:-0400
TZNAME:EDT
DTSTART:20190310T070000
END:DAYLIGHT
BEGIN:STANDARD
TZOFFSETFROM:-0400
TZOFFSETTO:-0500
TZNAME:EST
DTSTART:20191103T060000
END:STANDARD
END:VTIMEZONE
BEGIN:VEVENT
DTSTART;VALUE=DATE:20190607
DTEND;VALUE=DATE:20190608
DTSTAMP:20210404T235809
CREATED:20190530T160039Z
LAST-MODIFIED:20190530T160039Z
UID:162987-1559865600-1559951999@www.patriotguard.org
SUMMARY:Max Eugene Peterson
DESCRIPTION:Honor Mission\nMax Eugene Peterson\, Veteran\nUSN – Korea\nAllen\, Texas – 06-07-19\n\n\n\nABOUT THE MISSION: \nMr. Peterson enlisted on January 24\, 1951. He served as an Electronics Technician aboard the Aircraft Carrier USS Princeton\, serving with honor during the Korean War. He achieved the rank of Petty Officer First Class before his discharge on December 17\, 1954. Awards include the National Defense Service Medal; Good Conduct Medal; Korean War Service Medal; United Nations Service Medal\n\n\nPRIMARY STAGING DETAILS: 06-07-19 \nStaging Time: 9:45 am  \nTurrentine-Jackson-Morrow Funeral Home\n2525 N Central Expy\nAllen\, Texas 76013\n\n\nRide Captain: \nBill Kushnir\nbpkush@gte.net\n(214) 995-1536\n\n\nSpecial Instructions: \nStaging Time: 9:45 am\nBriefing Time: 10:00 am\nIn Position/KSU Time: 10:15 am\nStarting Time: 10:30 am\nRiders will stage at the grave site adjacent to the funeral home. After the briefing\, riders will stand tall and silent while family and friends arrive and until the end of the grave side service. At the direction of the MRC\, flags will be furled and returned to the flag support vehicle. Riders will then be debriefed and dismissed.\n\n\nFlags & Water:\nFlags will be provided\nLarge Bike Flags will NOT be needed.\nWater will be provided.\n\n\nSubmitted By: Dan Mathys \nPosition: Texas Ride Captain \n\nNote: You do not have to own/ride a motorcycle or be a veteran to join\, and membership is Free. The only requirement is RESPECT! To subscribe to receive mission notices\, log into the National Site and click on the Members tab at the top. Select the Subscribe to PGR Missions option.\n Print This Page
URL:https://www.patriotguard.org/mission/max-eugene-peterson/
CATEGORIES:Honor Mission
END:VEVENT
END:VCALENDAR