BEGIN:VCALENDAR
VERSION:2.0
PRODID:-//Patriot Guard Riders - ECPv5.6.0//NONSGML v1.0//EN
CALSCALE:GREGORIAN
METHOD:PUBLISH
X-WR-CALNAME:Patriot Guard Riders
X-ORIGINAL-URL:https://www.patriotguard.org
X-WR-CALDESC:Events for Patriot Guard Riders
BEGIN:VTIMEZONE
TZID:America/New_York
BEGIN:DAYLIGHT
TZOFFSETFROM:-0500
TZOFFSETTO:-0400
TZNAME:EDT
DTSTART:20160313T070000
END:DAYLIGHT
BEGIN:STANDARD
TZOFFSETFROM:-0400
TZOFFSETTO:-0500
TZNAME:EST
DTSTART:20161106T060000
END:STANDARD
END:VTIMEZONE
BEGIN:VEVENT
DTSTART;TZID=America/New_York:20160630T090000
DTEND;TZID=America/New_York:20160630T110000
DTSTAMP:20210512T205115
CREATED:20160630T130000Z
LAST-MODIFIED:20191201T144719Z
UID:410948-1467277200-1467284400@www.patriotguard.org
SUMMARY:Max E. Rhea\, 77
DESCRIPTION:MAX EDWARD RHEA (77)\nUS ARMY VETERAN\nTHURSDAY\, JUNE 30\, 2016\n\n [ATTACH=CONFIG]4866[/ATTACH]\n\n\nBorn: MARCH 27\, 1939\nDeceased: JUNE 26\, 2016\n\nHis  family has requested that the PGR attend his services. Mr. Rhea served in the Army from  1961-1968 and was honorably discharged at Fort Polk\, Louisiana.   \nServices:  10:00 AM Thursday\, June 30th at Erman Smith Funeral Home\, 315 Rusk Street\, Pittsburgh\, Texas 75686.\nStaging: at the funeral home from 8:00 to 8:30 AM with a riders meeting at 8:45. Directions to the cemetery will be given by the Ride Captain.\nMap link staging area: https://goo.gl/maps/yqYYQ6fyMc52\n\nBIG FLAG BIKES ARE REQUESTED.  \n\nAll  new members are requested to sign a PGR Release of Liability prior to  Flag Line.  Please remain flexible as to the requirements of the mission  (SEMPER GUMBY).\n\nRide Captain:  Thomas Johnson\nPhone:  [URL=”tel:2146750701″]2146750701[/URL]\nEmail Address:  tj919oldschool@aol.comFlag Captain:  Stan Murrell (The Colonel)\nPhone:  [URL=”tel:9035133877″]9035133877[/URL]\nEmail Address:  samurrell3@hughes.net\n\nWeather Report: high temp 93 degrees.  Please hydrate often\, including the night before. \nALL  GROUPS\, CLUBS\, INDEPENDENTS\, ETC. ARE WELCOME.  The only prerequisite  is RESPECT.  Also remember\, you do not have to ride a motorcycle to join  in.  The flag line is open to all who wish to participate.
URL:https://www.patriotguard.org/mission/max-e-rhea-77/
END:VEVENT
END:VCALENDAR