BEGIN:VCALENDAR
VERSION:2.0
PRODID:-//Patriot Guard Riders - ECPv5.3.2.1//NONSGML v1.0//EN
CALSCALE:GREGORIAN
METHOD:PUBLISH
X-WR-CALNAME:Patriot Guard Riders
X-ORIGINAL-URL:https://www.patriotguard.org
X-WR-CALDESC:Events for Patriot Guard Riders
BEGIN:VTIMEZONE
TZID:America/New_York
BEGIN:DAYLIGHT
TZOFFSETFROM:-0500
TZOFFSETTO:-0400
TZNAME:EDT
DTSTART:20190310T070000
END:DAYLIGHT
BEGIN:STANDARD
TZOFFSETFROM:-0400
TZOFFSETTO:-0500
TZNAME:EST
DTSTART:20191103T060000
END:STANDARD
END:VTIMEZONE
BEGIN:VEVENT
DTSTART;VALUE=DATE:20190709
DTEND;VALUE=DATE:20190710
DTSTAMP:20210403T190000
CREATED:20190707T150119Z
LAST-MODIFIED:20190707T150119Z
UID:166724-1562630400-1562716799@www.patriotguard.org
SUMMARY:Maurice Smith
DESCRIPTION:Honor Mission\nMaurice Smith\, Retired\nUSN –\nOcean Springs\, Mississippi – 07-09-19\n\n\n\nABOUT THE MISSION: \nWe are sad to report the death of US Navy Captain Retired Maurice Smith (87). The family of Mr. Smith has requested the Patriot Guard Riders help honor and pay respect for his service to our country. Patriot Guard will provide a flag line during visitation from 10:30-12:30. Following the 12:30 PM funeral\, we will escort to Biloxi National Cemetery for 1:30 PM interment.\n\n\nPRIMARY STAGING DETAILS: 07-09-19 \nStaging Time: 10:15 AM\n \nBradford O’Keefe Funeral Home\n911 Porter Ave\nOcean Springs\, Mississippi\n\n\nRide Captain: \nPaul Ramm\n830-444-1141\n\n\nSpecial Instructions: \n\n\nFlags & Water:\nFlags will be provided\nIf you have large bike flags\, please bring them.\nWater WILL NOT be provided\, please bring your own.\n\n\n\nSubmitted By: Sandie Schlett \nPosition: Mississippi Assistant State Captain \n\nNote: You do not have to own/ride a motorcycle or be a veteran to join\, and membership is Free. The only requirement is RESPECT! To subscribe to receive mission notices\, log into the National Site and click on the Members tab at the top. Select the Subscribe to PGR Missions option.\n Print This Page
URL:https://www.patriotguard.org/mission/maurice-smith/
CATEGORIES:Honor Mission
END:VEVENT
END:VCALENDAR