BEGIN:VCALENDAR
VERSION:2.0
PRODID:-//Patriot Guard Riders - ECPv5.6.0//NONSGML v1.0//EN
CALSCALE:GREGORIAN
METHOD:PUBLISH
X-WR-CALNAME:Patriot Guard Riders
X-ORIGINAL-URL:https://www.patriotguard.org
X-WR-CALDESC:Events for Patriot Guard Riders
BEGIN:VTIMEZONE
TZID:America/New_York
BEGIN:DAYLIGHT
TZOFFSETFROM:-0500
TZOFFSETTO:-0400
TZNAME:EDT
DTSTART:20160313T070000
END:DAYLIGHT
BEGIN:STANDARD
TZOFFSETFROM:-0400
TZOFFSETTO:-0500
TZNAME:EST
DTSTART:20161106T060000
END:STANDARD
END:VTIMEZONE
BEGIN:VEVENT
DTSTART;TZID=America/New_York:20160609T090000
DTEND;TZID=America/New_York:20160609T110000
DTSTAMP:20210513T181034
CREATED:20160609T130000Z
LAST-MODIFIED:20191201T145344Z
UID:411528-1465462800-1465470000@www.patriotguard.org
SUMMARY:Matthew L. Rayborn
DESCRIPTION:Matthew L. Rayborn\n\n\nPatriot Guard Rider\nNorth Little Rock\, AR\n9 June 16\n\n\nPatriot Guard Rider member Matthew L. Rayborn’s parents\, family and friends has requested our participation in his going home celebration.  Matthew was an active member of PGR with his father Stan Rayborn. Matthew was also active in karate and dirt bike racing. His parents\, family and many friends will miss Matthew. We would be honored to stand for this proud member of the PGR. \nThere will be an escort to the State Veteran’s Cemetery. Big Flags are requested to be present. \nStaging – 08:45 at Faith Baptist Church\, 109 Tanglewood Dr.\, North Little Rock\nBriefing – 09:05 \nFlag Line – 09:30 to the commencement of services\nEscort – to Arkansas State Veteran’s Cemetery\, 1501 W. Maryland Ave\, North Little Rock\nFlag Line – 11:55 to conclusion of service\nWeather – Sunny\, Hi of 91\, Water will be provided \nRCIC –\nWalter “Big Walt” Prouty\, 501-257-0040\, Big.Walt.PGR@gmail.com \nARC’s – \nRichard “Papa G” Gentry\, 501-416-0685\, richardgentry188@yahoo.com\nRoger “Butterball” Vander Lugt\, 501-416-9445
URL:https://www.patriotguard.org/mission/matthew-l-rayborn/
CATEGORIES:Archive
END:VEVENT
END:VCALENDAR