BEGIN:VCALENDAR
VERSION:2.0
PRODID:-//Patriot Guard Riders - ECPv5.3.2.1//NONSGML v1.0//EN
CALSCALE:GREGORIAN
METHOD:PUBLISH
X-WR-CALNAME:Patriot Guard Riders
X-ORIGINAL-URL:https://www.patriotguard.org
X-WR-CALDESC:Events for Patriot Guard Riders
BEGIN:VTIMEZONE
TZID:America/New_York
BEGIN:DAYLIGHT
TZOFFSETFROM:-0500
TZOFFSETTO:-0400
TZNAME:EDT
DTSTART:20190310T070000
END:DAYLIGHT
BEGIN:STANDARD
TZOFFSETFROM:-0400
TZOFFSETTO:-0500
TZNAME:EST
DTSTART:20191103T060000
END:STANDARD
END:VTIMEZONE
BEGIN:VEVENT
DTSTART;VALUE=DATE:20190711
DTEND;VALUE=DATE:20190712
DTSTAMP:20210403T182519
CREATED:20190709T201750Z
LAST-MODIFIED:20190709T201750Z
UID:167046-1562803200-1562889599@www.patriotguard.org
SUMMARY:Matthew J. Austin
DESCRIPTION:Honor Mission\nMatthew J. Austin\, Active Duty\nUSN – WoT\nVirginia Beach\, Virginia – 07-11-19\n\n\n\nABOUT THE MISSION: \nCommander\, Naval Special Warfare Group 4 and Commander\, Special Boat Team 20 respectfully requests the Patriot Guard Riders attend and honor their fallen teammate GM1 Matthew J. Austin who passed away unexpectedly 30 June 2019. GM1 Austin was assigned to Special Boat Team 20. GM1 was previously assigned to the USS Porter DDG-78. GM1 Austin is survived by loving family\, teammates and friends.\n\n\nPRIMARY STAGING DETAILS: 07-11-19 \nStaging Time: 9:30 am  \nFood Lion\n5193 Shore Drive\nVirginia Beach\, Virginia 23455\n\n\nRide Captain: \nDave Bozak\ndavidjbozak@gmail.com‭\n(757) 615-8128\n\nCORC: TBD\nRICE: TBD\n\n\nSpecial Instructions: \nBrief: 9:45\nKSU: 1000\nCommand Memorial: Time: 1100\nLocation: Will be disclosed at mission brief.\nLarge Bike Flags encouraged\nMilitary base motorcycle safety requirements mandatory.\nFirearms are not authorized\n\n\nFlags & Water:\nFlags will be provided\nIf you have large bike flags\, please bring them.\nWater WILL NOT be provided\, please bring your own.\n\n\n\nSubmitted By: Mike Nugent \nPosition: Virginia Ride Captain \n\nNote: You do not have to own/ride a motorcycle or be a veteran to join\, and membership is Free. The only requirement is RESPECT! To subscribe to receive mission notices\, log into the National Site and click on the Members tab at the top. Select the Subscribe to PGR Missions option.\n Print This Page
URL:https://www.patriotguard.org/mission/matthew-j-austin/
CATEGORIES:Honor Mission
END:VEVENT
END:VCALENDAR