BEGIN:VCALENDAR
VERSION:2.0
PRODID:-//Patriot Guard Riders - ECPv5.3.2.1//NONSGML v1.0//EN
CALSCALE:GREGORIAN
METHOD:PUBLISH
X-WR-CALNAME:Patriot Guard Riders
X-ORIGINAL-URL:https://www.patriotguard.org
X-WR-CALDESC:Events for Patriot Guard Riders
BEGIN:VTIMEZONE
TZID:America/New_York
BEGIN:DAYLIGHT
TZOFFSETFROM:-0500
TZOFFSETTO:-0400
TZNAME:EDT
DTSTART:20190310T070000
END:DAYLIGHT
BEGIN:STANDARD
TZOFFSETFROM:-0400
TZOFFSETTO:-0500
TZNAME:EST
DTSTART:20191103T060000
END:STANDARD
END:VTIMEZONE
BEGIN:VEVENT
DTSTART;VALUE=DATE:20190919
DTEND;VALUE=DATE:20190920
DTSTAMP:20210401T111740
CREATED:20190918T192704Z
LAST-MODIFIED:20190918T223215Z
UID:174996-1568851200-1568937599@www.patriotguard.org
SUMMARY:Mason Martin
DESCRIPTION:Honor Mission\nMason Martin\, Veteran\nUSA\nRinggold\, Georgia – 09-19-19\n\n\n\n\nABOUT THE MISSION: \nThe family of Specialist Mason Martin (1993-2019) US Army has invited the Patriot Guard Riders to Honor their loved one with a silent flag line. It will be our honor to do so. Mr. Martin completed Basic Training June 2011 and served his country with the 318th Chemical Company. He completed Basic Leaders Course\, Combat Life Savers Course and CBRN Specialist Course. Mr. Martin stood for us and now it is our time to stand for him.\n\n\nPRIMARY STAGING DETAILS: 09-19-19 \nStaging Time: 5:15 pm \nAmerican Legion\n5956 Highway 41\nRinggold\, Georgia 30736\n\n\nRide Captain: \nSonny Mason\n423-596-1774\n\n\nSpecial Instructions: \nPrimary Staging/ Visitation\nDetails: 9/19/2019 Thursday 6-8 PM EDT\nThis will be a flag line only mission during memorial service.\n\n\nFlags & Water:\nFlags will be provided\nLarge Bike Flags will NOT be needed.\nWater WILL NOT be provided\, please bring your own.\n\n\n\nSubmitted By: Thonda Farmer \nPosition: Tennessee Assistant State Captain \n\nNote: You do not have to own/ride a motorcycle or be a veteran to join\, and membership is Free. The only requirement is RESPECT! To subscribe to receive mission notices\, log into the National Site and click on the Members tab at the top. Select the Subscribe to PGR Missions option.\n Print This Page
URL:https://www.patriotguard.org/mission/mason-martin/
CATEGORIES:Honor Mission
END:VEVENT
END:VCALENDAR