BEGIN:VCALENDAR
VERSION:2.0
PRODID:-//Patriot Guard Riders - ECPv5.3.2.1//NONSGML v1.0//EN
CALSCALE:GREGORIAN
METHOD:PUBLISH
X-WR-CALNAME:Patriot Guard Riders
X-ORIGINAL-URL:https://www.patriotguard.org
X-WR-CALDESC:Events for Patriot Guard Riders
BEGIN:VTIMEZONE
TZID:America/New_York
BEGIN:DAYLIGHT
TZOFFSETFROM:-0500
TZOFFSETTO:-0400
TZNAME:EDT
DTSTART:20190310T070000
END:DAYLIGHT
BEGIN:STANDARD
TZOFFSETFROM:-0400
TZOFFSETTO:-0500
TZNAME:EST
DTSTART:20191103T060000
END:STANDARD
END:VTIMEZONE
BEGIN:VEVENT
DTSTART;VALUE=DATE:20190716
DTEND;VALUE=DATE:20190717
DTSTAMP:20210403T190559
CREATED:20190714T003654Z
LAST-MODIFIED:20190714T003654Z
UID:167605-1563235200-1563321599@www.patriotguard.org
SUMMARY:Marvin Roberts
DESCRIPTION:Honor Mission\nMarvin Roberts\, Veteran\nUSA –\nGrayson\, Kentucky – 07-16-19\n\n\n\n\nABOUT THE MISSION: \nUS Army veteran.\n\n\nPRIMARY STAGING DETAILS: 07-16-19 \nStaging Time: 11:30 am \nMcDonalds\,\n750 Carol Malone Blvd\nGrayson\, Kentucky 41143\n\n\nRide Captain: \nTom Epperly\n606.571.9022\n\n\nSpecial Instructions: \nKSU @ 11:45 am\n\nFlags & Water:\nFlags will not be provided\nIf you have large bike flags\, please bring them.\nWater WILL NOT be provided\, please bring your own.\n\n\n\nSubmitted By: Thomas Epperly \nPosition: Kentucky Assistant State Captain \n\nNote: You do not have to own/ride a motorcycle or be a veteran to join\, and membership is Free. The only requirement is RESPECT! To subscribe to receive mission notices\, log into the National Site and click on the Members tab at the top. Select the Subscribe to PGR Missions option.\n Print This Page
URL:https://www.patriotguard.org/mission/marvin-roberts/
CATEGORIES:Honor Mission
END:VEVENT
END:VCALENDAR