BEGIN:VCALENDAR
VERSION:2.0
PRODID:-//Patriot Guard Riders - ECPv5.6.0//NONSGML v1.0//EN
CALSCALE:GREGORIAN
METHOD:PUBLISH
X-WR-CALNAME:Patriot Guard Riders
X-ORIGINAL-URL:https://www.patriotguard.org
X-WR-CALDESC:Events for Patriot Guard Riders
BEGIN:VTIMEZONE
TZID:America/New_York
BEGIN:DAYLIGHT
TZOFFSETFROM:-0500
TZOFFSETTO:-0400
TZNAME:EDT
DTSTART:20160313T070000
END:DAYLIGHT
BEGIN:STANDARD
TZOFFSETFROM:-0400
TZOFFSETTO:-0500
TZNAME:EST
DTSTART:20161106T060000
END:STANDARD
END:VTIMEZONE
BEGIN:VEVENT
DTSTART;TZID=America/New_York:20160713T090000
DTEND;TZID=America/New_York:20160713T110000
DTSTAMP:20210512T150416
CREATED:20160713T130000Z
LAST-MODIFIED:20191201T144354Z
UID:410635-1468400400-1468407600@www.patriotguard.org
SUMMARY:Marvin Nuessle\, USA
DESCRIPTION:Marvin Nuessle\nUS Army World WWII Veteran\nPurple Heart Recipient\nMember of the Greatest Generation \n\n\n\nThe family of Marvin Nuessle has requested the presence of The Patriot Guard Riders for Services and Military honors. \nMarvin Nuessle was a United States Army Veteran. Marvin tried to join the Army on 19 February\, 1943 but was differed until 24 June 1943 after he turned 18. Marvin was sent to Fort Custer\, Michigan and then on to Camp Kraft\, South Carolina for 3 months and then sent to Fort Sam Houston\, Texas where he joined the 88th Division\, 250 Regiment. On 2 December\, 1943 Marvin was sent to North Africa for one month then to Italy\, his Regiment was the first troops in Rome. Marvin was wounded stepping on a land mine while doing recon behind German lines. Among Marvin’s decorations he received were The Bronze Star\, The Purple Heart and 2 Battle Stars. He was a member of American Legion Post 107 and also the Veterans of Foreign Wars. He retired from Goodyear aerospace Center in 1982. Members of American Legion Post 107 in Phoenix and the Arizona Patriot Guard Riders will miss his great smile. He was a Member of the Greatest Generation\, a gentleman who was kind and courteous to all. We thank Marvin for his sacrifice so that we can be free. \nMission Captain:\nTom Burns\n815-342-1138\ntgburns55@hotmail.com \nFlag Support Vehicle Person: TBD \nDate: 13 July 2016 \nStaging: 1000 hours\nPhoenix Memorial Park\n200 West Beardsley Road\nPhoenix\, AZ\, 85027 \nBriefing: 1030 hours \nFlag Line: immediately following briefing \nMilitary Honors: 1100 hours\, 13 July 2016\,\nPhoenix Memorial Park\n200 West Beardsley Road\nPhoenix\, AZ\, 85027 \nDue to Arizona Weather\, please hydrate the day before and the day of the mission.
URL:https://www.patriotguard.org/mission/marvin-nuessle-usa/
CATEGORIES:Archive
END:VEVENT
END:VCALENDAR