BEGIN:VCALENDAR
VERSION:2.0
PRODID:-//Patriot Guard Riders - ECPv5.3.2.1//NONSGML v1.0//EN
CALSCALE:GREGORIAN
METHOD:PUBLISH
X-WR-CALNAME:Patriot Guard Riders
X-ORIGINAL-URL:https://www.patriotguard.org
X-WR-CALDESC:Events for Patriot Guard Riders
BEGIN:VTIMEZONE
TZID:America/New_York
BEGIN:DAYLIGHT
TZOFFSETFROM:-0500
TZOFFSETTO:-0400
TZNAME:EDT
DTSTART:20190310T070000
END:DAYLIGHT
BEGIN:STANDARD
TZOFFSETFROM:-0400
TZOFFSETTO:-0500
TZNAME:EST
DTSTART:20191103T060000
END:STANDARD
END:VTIMEZONE
BEGIN:VEVENT
DTSTART;VALUE=DATE:20190531
DTEND;VALUE=DATE:20190601
DTSTAMP:20210405T020618
CREATED:20190530T184224Z
LAST-MODIFIED:20190530T184224Z
UID:163087-1559260800-1559347199@www.patriotguard.org
SUMMARY:Marvin Lee Smith
DESCRIPTION:Honor Mission\nMarvin Lee Smith\, Veteran\nUSMC – Vietnam\nDibble \, Oklahoma – 05-31-19\n\n\n\nABOUT THE MISSION: \nMarvin Smith served in the USMC in Vietnam.\n\n\nPRIMARY STAGING DETAILS: 05-31-19 \nStaging Time: 08:45  \nDibble Free Will Baptist Church\nNW. corner of Firemans Rd. and Old Town 1st St.\nDibble \, Oklahoma\n\n\nRide Captain: \nBruce “Sixgun”McCormick\n405-933-5462\nbkrodeoranch@sbcglobal.net\n\n\nSpecial Instructions: \nMandatory briefing: 9:00 am.\nRiders must attend mandatory briefing if riding in the accompaniment.\nFlag Line: 9:30 am.\nThe riders will stand a Flag Line for incoming family and friends. Upon completion of the service\, a respect line will be formed as the hero is brought to the coach. Riders will accompany the hero\, family and friends to Hale Cemetery which is located 3 1/2 miles west and 1/2 mile south of Dibble\, Ok.\nWeather: 83 degrees. Please remember to hydrate before and during the mission.\n\n\nFlags & Water:\nFlags will be provided\nIf you have large bike flags\, please bring them.\nWater WILL NOT be provided\, please bring your own.\n\nSubmitted By: Bruce McCormick \nPosition: Oklahoma Ride Captain \n\nNote: You do not have to own/ride a motorcycle or be a veteran to join\, and membership is Free. The only requirement is RESPECT! To subscribe to receive mission notices\, log into the National Site and click on the Members tab at the top. Select the Subscribe to PGR Missions option.\n Print This Page
URL:https://www.patriotguard.org/mission/marvin-lee-smith/
CATEGORIES:Honor Mission
END:VEVENT
END:VCALENDAR