BEGIN:VCALENDAR
VERSION:2.0
PRODID:-//Patriot Guard Riders - ECPv5.6.0//NONSGML v1.0//EN
CALSCALE:GREGORIAN
METHOD:PUBLISH
X-WR-CALNAME:Patriot Guard Riders
X-ORIGINAL-URL:https://www.patriotguard.org
X-WR-CALDESC:Events for Patriot Guard Riders
BEGIN:VTIMEZONE
TZID:America/New_York
BEGIN:DAYLIGHT
TZOFFSETFROM:-0500
TZOFFSETTO:-0400
TZNAME:EDT
DTSTART:20160313T070000
END:DAYLIGHT
BEGIN:STANDARD
TZOFFSETFROM:-0400
TZOFFSETTO:-0500
TZNAME:EST
DTSTART:20161106T060000
END:STANDARD
END:VTIMEZONE
BEGIN:VEVENT
DTSTART;TZID=America/New_York:20160621T090000
DTEND;TZID=America/New_York:20160621T110000
DTSTAMP:20210513T162336
CREATED:20160621T130000Z
LAST-MODIFIED:20191201T144936Z
UID:411155-1466499600-1466506800@www.patriotguard.org
SUMMARY:Marvin Hanson\, 94\, USN
DESCRIPTION:Ladies and Gentlemen of the Patriot Guard Riders we have been asked to provide a flag line for a member of the greatest generation\, Marvin Hanson. Marvin joined the Navy in 1942 he went to landing craft school in San Diego. Then in Guadalcanal\, he boarded the George Climer APA 27 which landed troops from island to island in the Pacific. The George Climer was also worked as a supply ship stationed in New Zealand. Marvin reached the rank of Yeoman 1st class and was awarded\, Navy Good Conduct Medal\, World War II Victory Medal\, American Campaign Medal\, Asiatic Pacific Campaign Medal (w/1 silver star appurtenance)\, Navy Occupation Service Medal (w/Asia Clasp)\, China Service Medal\, Combat Action Ribbon\, Discharge Button\, Honorable Service Lapel Pin (Ruptured Duck)\, Philippine Liberation Medal (w/ 1 bronze star appurtenance)\, Philippine Presidential Unit Citation (Navy). Marvin was discharged in February 1946 and returned to Eugene Or. Please join us in showing our respects for Marvin and his service to our country. \nMission Date: Tuesday\, 21/JUN/16 \nRide Captain: Martin DeForest   msdeforest@earthlink.net \nStaging Location: Bethesda Lutheran Church 4445 Royal Ave. Eugene\, OR (back of East parking lot) \nStaging Time: 12:30 pm\nBriefing: 1:00 pm\nKSU: N/A\nFlagline Set: 1:15 pm\nService Begins: 2:00 pm \n—\nJohn Hanan II\nOregon State Captain
URL:https://www.patriotguard.org/mission/marvin-hanson-94-usn/
CATEGORIES:Archive
END:VEVENT
END:VCALENDAR