BEGIN:VCALENDAR
VERSION:2.0
PRODID:-//Patriot Guard Riders - ECPv5.3.2.1//NONSGML v1.0//EN
CALSCALE:GREGORIAN
METHOD:PUBLISH
X-WR-CALNAME:Patriot Guard Riders
X-ORIGINAL-URL:https://www.patriotguard.org
X-WR-CALDESC:Events for Patriot Guard Riders
BEGIN:VTIMEZONE
TZID:America/New_York
BEGIN:DAYLIGHT
TZOFFSETFROM:-0500
TZOFFSETTO:-0400
TZNAME:EDT
DTSTART:20190310T070000
END:DAYLIGHT
BEGIN:STANDARD
TZOFFSETFROM:-0400
TZOFFSETTO:-0500
TZNAME:EST
DTSTART:20191103T060000
END:STANDARD
END:VTIMEZONE
BEGIN:VEVENT
DTSTART;VALUE=DATE:20190606
DTEND;VALUE=DATE:20190607
DTSTAMP:20210405T122602
CREATED:20190603T232339Z
LAST-MODIFIED:20190603T232339Z
UID:163514-1559779200-1559865599@www.patriotguard.org
SUMMARY:Marvin Eugene Kirkpatrick
DESCRIPTION:Honor Mission\nMarvin Eugene Kirkpatrick\, Veteran\nUSAF\nMemphis\, Tennessee – 06-06-19\n\n\n\n\nABOUT THE MISSION: \nOur great State of Tennessee and the people of Memphis Tennessee have lost another Veteran Hero.\nCPL Marvin Kirkpatrick\, 88\, passed away May 26th\, 2019.\nCPL Kirkpatrick proudly served our country in the United States Air Force.\nThe Patriot Guard Riders have been invited to honor CPL Kirkpatrick and the services rendered to our great nation and the Patriot Guard Riders will be honored to do so.\n\n\nPRIMARY STAGING DETAILS: 06-06-19 \nStaging Time: 10:00 AM\n \nHigh Point Funeral Home & Crematorium\n3788 Summer Ave\nMemphis\, Tennessee 38122\nMap\n\n\nRide Captain: \nPete Thedford\n901-568-0962\nThedford15@gmail.com\n\n\nSpecial Instructions: \nPatriot Guard Riders will provide an honor flag line during the visitation from 10:30 AM until 12:00 PM.\nUpon completion of the visitation the Patriot Guard will escort CPL Marvin Kirkpatrick to West Tennessee State Veterans Cemetery for a 1:15 PM service at the Rotunda.\nThe Patriot Guard will then provide an Honor Flag Line at the Rotunda for rendering of military honors.\nAnyone staging at the cemetery should arrive at 1:00 PM.\nSafety briefing at 10:15 AM.\nThis will be a 17 mile escort. Map\n\n\nFlags & Water:\nFlags will be provided\nIf you have large bike flags\, please bring them.\nWater WILL NOT be provided\, please bring your own.\n\n\n\nSubmitted By: Raymond Thedford \nPosition: Tennessee Assistant State Captain \n\nNote: You do not have to own/ride a motorcycle or be a veteran to join\, and membership is Free. The only requirement is RESPECT! To subscribe to receive mission notices\, log into the National Site and click on the Members tab at the top. Select the Subscribe to PGR Missions option.\n Print This Page
URL:https://www.patriotguard.org/mission/marvin-eugene-kirkpatrick/
CATEGORIES:Honor Mission
END:VEVENT
END:VCALENDAR