BEGIN:VCALENDAR
VERSION:2.0
PRODID:-//Patriot Guard Riders - ECPv5.3.2.1//NONSGML v1.0//EN
CALSCALE:GREGORIAN
METHOD:PUBLISH
X-WR-CALNAME:Patriot Guard Riders
X-ORIGINAL-URL:https://www.patriotguard.org
X-WR-CALDESC:Events for Patriot Guard Riders
BEGIN:VTIMEZONE
TZID:America/New_York
BEGIN:DAYLIGHT
TZOFFSETFROM:-0500
TZOFFSETTO:-0400
TZNAME:EDT
DTSTART:20190310T070000
END:DAYLIGHT
BEGIN:STANDARD
TZOFFSETFROM:-0400
TZOFFSETTO:-0500
TZNAME:EST
DTSTART:20191103T060000
END:STANDARD
END:VTIMEZONE
BEGIN:VEVENT
DTSTART;VALUE=DATE:20190920
DTEND;VALUE=DATE:20190921
DTSTAMP:20210401T072824
CREATED:20190919T005218Z
LAST-MODIFIED:20190919T005218Z
UID:175128-1568937600-1569023999@www.patriotguard.org
SUMMARY:Marvin Earl Perkins
DESCRIPTION:Honor Mission\nMarvin Earl Perkins\, Veteran\nUSA – Vietnam\nBowling Green\, Missouri – 09-20-19\n\n\n\nABOUT THE MISSION: \nMarvin Earl Perkins served in the U.S. Army 1966-1968. He was in Vietnam 1967-68. He was honorably discharged in 1968 with the rank of Specialist 5.\n\n\nPRIMARY STAGING DETAILS: 09-20-19 \nStaging Time: 10:00 AM\n \nBibb-Veach Funeral Home\n606 West Main Street\nBowling Green\, Missouri 63334\n\n\nRide Captain: \nBill Weldon\n(573) 253-5918\n\n\nSpecial Instructions: \nRide brief 10:05 then stand a flag line until time of service at 11:00 am.\nEscort to Ashley Fairview Cemetery\, Ashley\, MO. Approximately 6 miles.\n\n\nFlags & Water:\nFlags will be provided\nIf you have large bike flags\, please bring them.\nWater will be provided.\n\n\n\nSubmitted By: Bill Weldon \nPosition: Missouri Ride Captain \n\nNote: You do not have to own/ride a motorcycle or be a veteran to join\, and membership is Free. The only requirement is RESPECT! To subscribe to receive mission notices\, log into the National Site and click on the Members tab at the top. Select the Subscribe to PGR Missions option.\n Print This Page
URL:https://www.patriotguard.org/mission/marvin-earl-perkins/
CATEGORIES:Honor Mission
END:VEVENT
END:VCALENDAR