BEGIN:VCALENDAR
VERSION:2.0
PRODID:-//Patriot Guard Riders - ECPv5.3.2.1//NONSGML v1.0//EN
CALSCALE:GREGORIAN
METHOD:PUBLISH
X-WR-CALNAME:Patriot Guard Riders
X-ORIGINAL-URL:https://www.patriotguard.org
X-WR-CALDESC:Events for Patriot Guard Riders
BEGIN:VTIMEZONE
TZID:America/New_York
BEGIN:DAYLIGHT
TZOFFSETFROM:-0500
TZOFFSETTO:-0400
TZNAME:EDT
DTSTART:20190310T070000
END:DAYLIGHT
BEGIN:STANDARD
TZOFFSETFROM:-0400
TZOFFSETTO:-0500
TZNAME:EST
DTSTART:20191103T060000
END:STANDARD
END:VTIMEZONE
BEGIN:VEVENT
DTSTART;VALUE=DATE:20190802
DTEND;VALUE=DATE:20190803
DTSTAMP:20210402T122155
CREATED:20190729T152041Z
LAST-MODIFIED:20190729T152041Z
UID:169069-1564704000-1564790399@www.patriotguard.org
SUMMARY:Marvin Dalvey Abston
DESCRIPTION:  \n\nHonor Mission\nMarvin Dalvey Abston\, Veteran\nUSA –  Korea\nBradenton\, Florida  08-02-19\n\n\n \n\nABOUT THE MISSION: \nThe Family of PFC Marvin Dalvey Abston USA\, has requested the Patriot Guard Riders presence as they show their final respects to their loved one. PFC Abston served in the Korean War and was wounded in action and received a Purple heart as well as other ribbons. This is all I have on PFC Abston at this time. This will be a escort from funeral home to Sarasota National Cemetery followed by flag line at Sarasota National cemetery. Please bring your 3 X 5 American flags and stand in honor and respect for our veteran hero and his family.\n\n\nPRIMARY STAGING DETAILS: 08-02-19 \nStaging Time: 11:00 AM  \nRobert Toale & Sons Funeral Home at Manasota Memorial Park\n1221 53rd Avenue East\nBradenton \, Florida 34203\nhttps://www.google.com/maps/place/Robert+Toale+and+Sons+Funeral+Home+at+Manasota+Memorial+Park/@27.4482705\,-82.5491368\,350m/data=!3m1!1e3!4m13!1m7!3m6!1s0x88c33c2ba9d043c1:0xb66d735b4d48ad67!2s53rd+Ave+E\,+Florida+34203!3b1!8m2!3d27.4471369!4d-82.5161114!3m4!1s0x88c33de2befd79cd:0xc94d5803568dfe4f!8m2!3d27.4483777!4d-82.5497366\n\n\nRide Captain: \nBill Franklin\n941-350-2547\ngulfrader@comcast.net\n\n\nSpecial Instructions: \nStage 11:00 AM\nBrief 11:15 AM\nKSU 11:30 AM\n\n\nFlags & Water:\nFlags will not be provided\nIf you have large bike flags\, please bring them.\nWater WILL NOT be provided\, please bring your own.\n\nSTAGING #2 DETAILS: 08-02-19 \nStaging Time: 12:30 PM  \nSarasota National Cemetery\n9810 SR 72\nSarasota \, Florida 34241\nhttps://www.google.com/maps/place/Sarasota+National+Cemetery/@27.247541\,-82.3842661\,835m/data=!3m2!1e3!4b1!4m5!3m4!1s0x88c34f51a7839017:0xf9c692444647a451!8m2!3d27.2475362!4d-82.3820774\n\n\nRide Captain: \nBill Franklin\n941-350-2547\ngulfrader@comcast.net\n\n\nSpecial Instructions: \nStage 12:30 PM\nBrief 12:45 PM\nService 1:00 PM\n\n\nFlags & Water:\nFlags will not be provided\nIf you have large bike flags\, please bring them.\nWater WILL NOT be provided\, please bring your own.\n  \n\n\n\nSubmitted By: William Franklin \nPosition: Florida Ride Captain \n\nNote: You do not have to own/ride a motorcycle or be a veteran to join\, and membership is Free. The only requirement is RESPECT! To subscribe to receive mission notices\, log into the National Site and click on the Members tab at the top. Select the Subscribe to PGR Missions option.\n Print This Page
URL:https://www.patriotguard.org/mission/marvin-dalvey-abston/
CATEGORIES:Honor Mission
END:VEVENT
END:VCALENDAR