BEGIN:VCALENDAR
VERSION:2.0
PRODID:-//Patriot Guard Riders - ECPv5.3.2.1//NONSGML v1.0//EN
CALSCALE:GREGORIAN
METHOD:PUBLISH
X-WR-CALNAME:Patriot Guard Riders
X-ORIGINAL-URL:https://www.patriotguard.org
X-WR-CALDESC:Events for Patriot Guard Riders
BEGIN:VTIMEZONE
TZID:America/New_York
BEGIN:DAYLIGHT
TZOFFSETFROM:-0500
TZOFFSETTO:-0400
TZNAME:EDT
DTSTART:20180311T070000
END:DAYLIGHT
BEGIN:STANDARD
TZOFFSETFROM:-0400
TZOFFSETTO:-0500
TZNAME:EST
DTSTART:20181104T060000
END:STANDARD
END:VTIMEZONE
BEGIN:VEVENT
DTSTART;TZID=America/New_York:20180423T104500
DTEND;TZID=America/New_York:20180423T124500
DTSTAMP:20210403T040304
CREATED:20180423T144500Z
LAST-MODIFIED:20200727T032921Z
UID:311525-1524480300-1524487500@www.patriotguard.org
SUMMARY:Marvin D. Elwood\, Veteran\, USN
DESCRIPTION:Honor Mission\nMarvin D. Elwood\, Veteran\nUSN\nFort Morgan\, Colorado – 23 Apr 2018\n\n\nABOUT THE MISSION: \nThe Patriot Guard Riders have been invited to stand in honor at the interment service for Marvin Dale Elwood. Mr. Elwood was born on June 22\, 1929 and died on April 12\, 2018 at the age of 88. He was a veteran of the US Navy.\n\nPRIMARY STAGING DETAILS: 23 Apr 2018\nPrimary Staging Time: 10:45 A.M. \nRiverside Cemetery (Serenity Falls Columbarium)\n601 West 8th Avenue\nFort Morgan\, Colorado – 80701\nRide Captain: \nTBD; POC Jim Herstein\nSpecial Instructions: \nSerenity Falls Columbarium is located within the Riverside Cemetery and Memory Gardens.\nThe Columbarium is in the East Cemetery\, next to the office building.\n11:00AM – Mission Briefing\n11:15AM – Form Flag Line at the Columbarium\nFlags & Water: \nFlags Will Be Provided\nLarge Bike Flags will NOT be needed.\nWater will be provided.\n  \n\nSubmitted By: Jim Herstein\nPosition: State HOTH Coordinator\n \n\nNote:\nYou do not have to own/ride a motorcycle or be a Veteran to join and membership is Free. The only requirement is RESPECT! To join\, simply go to www.PatriotGuard.org and click on Register. Membership is Free. \nTo subscribe to receive mission notices\, log into the National Site and click on the Mission Tab at the top. Select the Subscribe to Missions option.
URL:https://www.patriotguard.org/mission/marvin-d-elwood-veteran-usn/
LOCATION:Mario De Hoyos
CATEGORIES:Honor Mission
END:VEVENT
END:VCALENDAR