BEGIN:VCALENDAR
VERSION:2.0
PRODID:-//Patriot Guard Riders - ECPv5.3.2.1//NONSGML v1.0//EN
CALSCALE:GREGORIAN
METHOD:PUBLISH
X-WR-CALNAME:Patriot Guard Riders
X-ORIGINAL-URL:https://www.patriotguard.org
X-WR-CALDESC:Events for Patriot Guard Riders
BEGIN:VTIMEZONE
TZID:America/New_York
BEGIN:DAYLIGHT
TZOFFSETFROM:-0500
TZOFFSETTO:-0400
TZNAME:EDT
DTSTART:20180311T070000
END:DAYLIGHT
BEGIN:STANDARD
TZOFFSETFROM:-0400
TZOFFSETTO:-0500
TZNAME:EST
DTSTART:20181104T060000
END:STANDARD
END:VTIMEZONE
BEGIN:VEVENT
DTSTART;TZID=America/New_York:20180307T114500
DTEND;TZID=America/New_York:20180307T134500
DTSTAMP:20210404T200451
CREATED:20180307T164500Z
LAST-MODIFIED:20191201T035009Z
UID:345655-1520423100-1520430300@www.patriotguard.org
SUMMARY:Martin Gribble\, Retired\, USAF
DESCRIPTION:Honor Mission \nMartin Gribble\, Retired\nUSAF\nDallas\, Texas – 07 Mar 2018\n\n\n[HR][/HR]\nABOUT THE MISSION: \n\nThe Patriot Guard has been asked to stand a flag line in honor of SSgt Martin Gribble’s service to his country. \nMartin joined the United States Air Force in 1956 and retired in 1976. \n\n\nPRIMARY STAGING DETAILS:  07 Mar 2018\nPrimary Staging Time: 11:45 A.M. \n\nDallas – Fort Worth National Cemetery\n2000 Mountain Creek Parkway\nDallas\, Texas – 75211\nhttps://goo.gl/maps/eopkzvHdPJn\n\n\nRide Captain: \n\nMike Moore\nevermoore58@gmail.com\n(817) 228-3240\n\n\nSpecial Instructions: \n\nThe PGR will stage at the Information Center at DFW National Cemetery. After the briefing\, honor bikes will be selected. Remaining riders will proceed to the assigned committal shelter\, set the flags and await the arrival of the procession. Riders will stand tall and silent during the interment service. After the service\, the flags will be returned to the storage locker and riders will be debriefed and dismissed.\n\n\nFlags & Water: \n\nFlags Will Be Provided\nIf you have large bike flags\, please bring them.\nWater WILL NOT be provided\, please bring your own.\n\nSubmitted By: Ted Waldron\nPosition: Ride Captain\n[HR][/HR]Note:\nYou do not have to own/ride a motorcycle or be a Veteran to join and membership is Free. The only requirement is RESPECT! To join\, simply go to www.PatriotGuard.org and click on Register. Membership is Free. \nTo subscribe to receive mission notices\, log into the National Site and click on the Mission Tab at the top. Select the Subscribe to Missions option.
URL:https://www.patriotguard.org/mission/martin-gribble-retired-usaf/
LOCATION:Robert Hass
END:VEVENT
END:VCALENDAR