BEGIN:VCALENDAR
VERSION:2.0
PRODID:-//Patriot Guard Riders - ECPv5.6.0//NONSGML v1.0//EN
CALSCALE:GREGORIAN
METHOD:PUBLISH
X-WR-CALNAME:Patriot Guard Riders
X-ORIGINAL-URL:https://www.patriotguard.org
X-WR-CALDESC:Events for Patriot Guard Riders
BEGIN:VTIMEZONE
TZID:America/New_York
BEGIN:DAYLIGHT
TZOFFSETFROM:-0500
TZOFFSETTO:-0400
TZNAME:EDT
DTSTART:20160313T070000
END:DAYLIGHT
BEGIN:STANDARD
TZOFFSETFROM:-0400
TZOFFSETTO:-0500
TZNAME:EST
DTSTART:20161106T060000
END:STANDARD
END:VTIMEZONE
BEGIN:VEVENT
DTSTART;TZID=America/New_York:20160610T090000
DTEND;TZID=America/New_York:20160610T110000
DTSTAMP:20210513T135845
CREATED:20160610T130000Z
LAST-MODIFIED:20191201T145238Z
UID:411424-1465549200-1465556400@www.patriotguard.org
SUMMARY:Marshall Roberts\, 68\, USA
DESCRIPTION:Honor Mission\nSP/4 Marshall “Jack” Roberts\, 68\nLambertville\, Michigan\nPassed Away in Toledo\, Ohio\nUnited States Army Vietnam Veteran\n[ATTACH=CONFIG]4794[/ATTACH]\n\n \nService:\nNewcomer Funeral Home – Northwest Toledo Chapel\n4150 W Laskey Road\nToledo\, Ohio 43623\n10 June 2016@1030hrs-(10:30AM)\nStaging: 10 June 2016@0930hrs-(9:30 AM) \nServices will conclude at the Funeral Home.  There will be no cemetery escort. \nDistrict# 1 Ride Captain Jerry Dauer is assigned this mission of Honor and Respect. Please follow his instructions. Dress per the weather conditions. Remember your 3’x5’ American flags. Use your own judgment on how you get safely to and from the mission. If you need to contact Jerry email him at: j_allen_43560@yahoo.com. \n\n \n\n“Rest in Peace SP/4 Roberts”\n[ATTACH=CONFIG]4795[/ATTACH]\n\n—\nBob Woods\nOhio State Captain
URL:https://www.patriotguard.org/mission/marshall-roberts-68-usa/
CATEGORIES:Archive
END:VEVENT
END:VCALENDAR