BEGIN:VCALENDAR
VERSION:2.0
PRODID:-//Patriot Guard Riders - ECPv5.6.0//NONSGML v1.0//EN
CALSCALE:GREGORIAN
METHOD:PUBLISH
X-WR-CALNAME:Patriot Guard Riders
X-ORIGINAL-URL:https://www.patriotguard.org
X-WR-CALDESC:Events for Patriot Guard Riders
BEGIN:VTIMEZONE
TZID:America/New_York
BEGIN:DAYLIGHT
TZOFFSETFROM:-0500
TZOFFSETTO:-0400
TZNAME:EDT
DTSTART:20150308T070000
END:DAYLIGHT
BEGIN:STANDARD
TZOFFSETFROM:-0400
TZOFFSETTO:-0500
TZNAME:EST
DTSTART:20151101T060000
END:STANDARD
END:VTIMEZONE
BEGIN:VEVENT
DTSTART;TZID=America/New_York:20150413T090000
DTEND;TZID=America/New_York:20150413T110000
DTSTAMP:20210513T044412
CREATED:20150413T130000Z
LAST-MODIFIED:20191201T125635Z
UID:395603-1428915600-1428922800@www.patriotguard.org
SUMMARY:Mark Snedeker\, 61
DESCRIPTION:Updated 13 Apr 15  0716 edt  S Sturgis \nMark Snedeker\, age 61\, 31 year Navy Veteran\,  passed away Friday morning.\nHis Family has asked us\, along with the American Legion Riders\,  to help Honor his Life  and Service on Monday\, April 13\, 2015 \n\nStaging \nMonday\,  April 13\, 2015\nRally at the All Saints Episcopal Church\, 121  W. Marina Rd\, Storm Lake \, (Just off Hwy. 110 on the west side of Storm Lake) at  8:30 am\n\nBriefing at 8:45 am\nSet up flag line there.  \nFamily will arrive about 9:15.\nService will be at 10:00.\n\nEscort from the church after service to the BV  Memorial Park Cemetery off Highway 7 just west of Storm Lake. (this only a few  miles from church)\nMilitary rites will be provided by the US Navy  and Offutt Air Base personnel. \n\nAt  the specific request of the family\, this will be a jointly lead mission  with equal participation from the ALR and the PGR.  Both organizations  have appointed Ride Captains and they are working together to meet the  family’s wishes. \nMike Luken  PGR RC\n712-221-9594 \nChris Niehaus – Storm Lake American Legion  RC\n712-431-6817
URL:https://www.patriotguard.org/mission/mark-snedeker-61/
CATEGORIES:Archive
END:VEVENT
END:VCALENDAR