BEGIN:VCALENDAR
VERSION:2.0
PRODID:-//Patriot Guard Riders - ECPv5.6.0//NONSGML v1.0//EN
CALSCALE:GREGORIAN
METHOD:PUBLISH
X-WR-CALNAME:Patriot Guard Riders
X-ORIGINAL-URL:https://www.patriotguard.org
X-WR-CALDESC:Events for Patriot Guard Riders
BEGIN:VTIMEZONE
TZID:America/New_York
BEGIN:DAYLIGHT
TZOFFSETFROM:-0500
TZOFFSETTO:-0400
TZNAME:EDT
DTSTART:20160313T070000
END:DAYLIGHT
BEGIN:STANDARD
TZOFFSETFROM:-0400
TZOFFSETTO:-0500
TZNAME:EST
DTSTART:20161106T060000
END:STANDARD
END:VTIMEZONE
BEGIN:VEVENT
DTSTART;TZID=America/New_York:20160719T090000
DTEND;TZID=America/New_York:20160719T110000
DTSTAMP:20210513T002152
CREATED:20160719T130000Z
LAST-MODIFIED:20191201T144335Z
UID:410605-1468918800-1468926000@www.patriotguard.org
SUMMARY:Mark R. Sheen\, 61
DESCRIPTION:HONOR MISSION\nETR2 Mark R Sheen\, 61\nSandusky\, Ohio\nUnited Stated Navy Vietnam Era Veteran \n\n\n \n\n[ATTACH=CONFIG]4929[/ATTACH]\n\n\n\nServices:\nOhio Veterans Home\nGiffin Chapel\n3416 Columbus Avenue\nSandusky\, Ohio 44870\nMilitary Service:  19 July 2016 @ 1300 hrs. – (1:00 PM)\nStaging: 19 July 2016 @ 1200 hrs. – (12:00 PM) \nServices will conclude at the Chapel.  There will be no cemetery escort. \nDistrict# 2 Captain Gary Knight is assigned this mission of Honor and Respect. Please follow his instructions. Dress per the weather conditions. Use your own judgment on how you get safely to and from the mission. If you need to contact Gary email him at: gillkiki@neo.rr.com. \n \n\n“Rest in Peace ETR2 Sheen”\n[ATTACH=CONFIG]4928[/ATTACH]
URL:https://www.patriotguard.org/mission/mark-r-sheen-61/
CATEGORIES:Archive
END:VEVENT
END:VCALENDAR