BEGIN:VCALENDAR
VERSION:2.0
PRODID:-//Patriot Guard Riders - ECPv5.3.2.1//NONSGML v1.0//EN
CALSCALE:GREGORIAN
METHOD:PUBLISH
X-WR-CALNAME:Patriot Guard Riders
X-ORIGINAL-URL:https://www.patriotguard.org
X-WR-CALDESC:Events for Patriot Guard Riders
BEGIN:VTIMEZONE
TZID:America/New_York
BEGIN:DAYLIGHT
TZOFFSETFROM:-0500
TZOFFSETTO:-0400
TZNAME:EDT
DTSTART:20190310T070000
END:DAYLIGHT
BEGIN:STANDARD
TZOFFSETFROM:-0400
TZOFFSETTO:-0500
TZNAME:EST
DTSTART:20191103T060000
END:STANDARD
END:VTIMEZONE
BEGIN:VEVENT
DTSTART;VALUE=DATE:20190701
DTEND;VALUE=DATE:20190702
DTSTAMP:20210404T041610
CREATED:20190627T023548Z
LAST-MODIFIED:20190627T213849Z
UID:165737-1561939200-1562025599@www.patriotguard.org
SUMMARY:Mark Emery Bellous
DESCRIPTION:Honor Mission\nMark Emery Bellous\, Veteran\nUSMC –\nAugusta\, Michigan – 07-01-19\n\n\n\nABOUT THE MISSION: \nThe Family of Mark Bellous has invited the Patriot Guard Riders to stand in honor of his service to our Nation. A veteran of the Vietnam War era\, Mark enlisted in the United States Marine Corps and proudly served our Country attaining the rank of Sergeant. Mark was a graduate of University of Michigan and worked for AT&T for over 25 years. Mark was a resident at the Grand Rapids Home for Veterans. \nObituary\n\n\n\nPRIMARY STAGING DETAILS: 07-01-19 \nStaging Time: 11:30 AM\n \nGrand Rapids Home for Veterans\n3000 Monroe Ave\nGrand Rapids\, Michigan 49505\nMap\n\n\nRide Captain: \nPhil Pakiela\n616-916-3064\n\n\nSpecial Instructions: \nBriefing: 11:45\nFlag Line until start of service at 1:00 PM\nCommittal rites with Military Honors to follow at the GR Home for Veterans Cemetery\, located across from Home.\n\n\nFlags & Water:\nFlags will be provided\nLarge Bike Flags will NOT be needed.\nWater WILL NOT be provided\, please bring your own.\n\n\n\nSubmitted By: Kenneth Talant \nPosition: Michigan Assistant State Captain \n\nNote: You do not have to own/ride a motorcycle or be a veteran to join\, and membership is Free. The only requirement is RESPECT! To subscribe to receive mission notices\, log into the National Site and click on the Members tab at the top. Select the Subscribe to PGR Missions option.\n Print This Page
URL:https://www.patriotguard.org/mission/mark-emery-bellous/
CATEGORIES:Honor Mission
END:VEVENT
END:VCALENDAR