BEGIN:VCALENDAR
VERSION:2.0
PRODID:-//Patriot Guard Riders - ECPv5.6.0//NONSGML v1.0//EN
CALSCALE:GREGORIAN
METHOD:PUBLISH
X-WR-CALNAME:Patriot Guard Riders
X-ORIGINAL-URL:https://www.patriotguard.org
X-WR-CALDESC:Events for Patriot Guard Riders
BEGIN:VTIMEZONE
TZID:America/New_York
BEGIN:DAYLIGHT
TZOFFSETFROM:-0500
TZOFFSETTO:-0400
TZNAME:EDT
DTSTART:20160313T070000
END:DAYLIGHT
BEGIN:STANDARD
TZOFFSETFROM:-0400
TZOFFSETTO:-0500
TZNAME:EST
DTSTART:20161106T060000
END:STANDARD
END:VTIMEZONE
BEGIN:VEVENT
DTSTART;TZID=America/New_York:20160808T090000
DTEND;TZID=America/New_York:20160808T110000
DTSTAMP:20210512T031444
CREATED:20160808T130000Z
LAST-MODIFIED:20191201T143755Z
UID:410084-1470646800-1470654000@www.patriotguard.org
SUMMARY:Mark A. Nestor\, USN\, Vietnam / Batavia
DESCRIPTION:Members: \nWe have been requested to stand in honor of 7 year\, E-5\, U.S. Navy Vietnam War Veteran Mark A. Nestor\, who passed away on Thursday. \nWhen/Where:\nMonday\, August 8\, 2016\nBatavia\, NY  14020 \nEscort to:\nSt. Joes Cemetery\, Batavia\nInterment with Military Honors \nThis is the 3rd Mission for Monday morning in Region-1.  I would respectfully request Region-2 members to consider helping out with this mission\, to ensure we properly honor the Naval service of Mr. Nestor and to support his loving family. \nPlease arrive on time with a clean 3×5 American Flag or a U.S. Navy Flag. \nDress for the weather\, bring a beverage for hydration\, and ensure your bike flags are properly placed and securely attached. \nLRC\nJoe Joyce\nJJoyce82abn55@yahoo.com\n\nSRC\nDon Higgins\,\ngladiator6988@hotmail.com
URL:https://www.patriotguard.org/mission/mark-a-nestor-usn-vietnam-batavia/
CATEGORIES:Archive
END:VEVENT
END:VCALENDAR