BEGIN:VCALENDAR
VERSION:2.0
PRODID:-//Patriot Guard Riders - ECPv5.3.2.1//NONSGML v1.0//EN
CALSCALE:GREGORIAN
METHOD:PUBLISH
X-WR-CALNAME:Patriot Guard Riders
X-ORIGINAL-URL:https://www.patriotguard.org
X-WR-CALDESC:Events for Patriot Guard Riders
BEGIN:VTIMEZONE
TZID:America/New_York
BEGIN:DAYLIGHT
TZOFFSETFROM:-0500
TZOFFSETTO:-0400
TZNAME:EDT
DTSTART:20190310T070000
END:DAYLIGHT
BEGIN:STANDARD
TZOFFSETFROM:-0400
TZOFFSETTO:-0500
TZNAME:EST
DTSTART:20191103T060000
END:STANDARD
END:VTIMEZONE
BEGIN:VEVENT
DTSTART;VALUE=DATE:20190911
DTEND;VALUE=DATE:20190912
DTSTAMP:20210401T013933
CREATED:20190908T123434Z
LAST-MODIFIED:20190908T123434Z
UID:173058-1568160000-1568246399@www.patriotguard.org
SUMMARY:Marjorie Christine Tucker
DESCRIPTION:Honor Mission\nMarjorie Christine Tucker  \, Veteran\nUSN \, WAVES – \, WWII\nSalisbury \, North Carolina – 09-11-19\n\n\n\n\nABOUT THE MISSION: \nPatriots\, our presence has been requested for a veteran who served our country.  Marjorie Christine Tucker\, (94) of Lancaster who served in the United States Navy during World War II . Ms. Tucker during her service earned the rank of Hospital Apprentice First class.\nAt this time there is no known next of kin. On this day we the patriot guard will be her family. Please join us in honoring yet another American Hero!\n Obituary link.\n\n\nPRIMARY STAGING DETAILS: 09-11-19 \nStaging Time: 12:30 pm \nSalisbury National Cemetery\n501 Statesville Blvd\nSalisbury \, North Carolina\nMap\n\n\nRide Captain: \nCW “Snapshot” Smith\nCws68@yahoo.com\n704-690-3119\n\n\nSpecial Instructions: \nBriefing: 12:40 pm **Special Note** 6 pallbearers will be needed at the cemetery. If interested in doing so please notify the RCIC upon arrival.We will prepare for Ms. Tucker’s arrival and stand a flag line during her interment at 1:00 pm with Full Military Honors.\n\nFlags & Water:\nFlags will be provided\nIf you have large bike flags\, please bring them.\nWater will be provided.\n\n\n\n\nSubmitted By: cw smith \nPosition: North Carolina Ride Captain \n\nNote: You do not have to own/ride a motorcycle or be a veteran to join\, and membership is Free. The only requirement is RESPECT! To subscribe to receive mission notices\, log into the National Site and click on the Members tab at the top. Select the Subscribe to PGR Missions option.\n Print This Page
URL:https://www.patriotguard.org/mission/marjorie-christine-tucker/
CATEGORIES:Honor Mission
END:VEVENT
END:VCALENDAR