BEGIN:VCALENDAR
VERSION:2.0
PRODID:-//Patriot Guard Riders - ECPv5.3.2.1//NONSGML v1.0//EN
CALSCALE:GREGORIAN
METHOD:PUBLISH
X-WR-CALNAME:Patriot Guard Riders
X-ORIGINAL-URL:https://www.patriotguard.org
X-WR-CALDESC:Events for Patriot Guard Riders
BEGIN:VTIMEZONE
TZID:America/New_York
BEGIN:DAYLIGHT
TZOFFSETFROM:-0500
TZOFFSETTO:-0400
TZNAME:EDT
DTSTART:20190310T070000
END:DAYLIGHT
BEGIN:STANDARD
TZOFFSETFROM:-0400
TZOFFSETTO:-0500
TZNAME:EST
DTSTART:20191103T060000
END:STANDARD
END:VTIMEZONE
BEGIN:VEVENT
DTSTART;VALUE=DATE:20190723
DTEND;VALUE=DATE:20190724
DTSTAMP:20210404T065141
CREATED:20190720T215552Z
LAST-MODIFIED:20190720T215552Z
UID:168373-1563840000-1563926399@www.patriotguard.org
SUMMARY:Marion Samuel Mathews
DESCRIPTION:Honor Mission\nMarion Samuel Mathews\, Retired\, Veteran\nUSN\, ANG\, USNR\, USAFR – Korea\, Vietnam\nCanton\, Georgia – 07-23-19\n\n\n\nABOUT THE MISSION: \nMr. Mathews was born March 14\, 1933 and was inducted into the U. S. Navy in 1951. He spent over 30 years in service to our country with four years active service. He rose to the rank of SMSgt before retiring. He was awarded numerous medals with one of them being the Vietnam Service Medal. The family has asked the Patriot Guard Riders to be a part of his service. It will be our honor and privilege to do so.\n\n\nPRIMARY STAGING DETAILS: 07-23-19 \nStaging Time: 08:15 AM\n \nGeorgia National Cemetery\n1080 Scott Hudgens Drive\nCanton\, Georgia 30114\n\n\nRide Captain: \nRaymond ‘Arizona’ Myers\nhorseplay2@aol.com\n(770) 312-3386\n\n\nSpecial Instructions: \nThis mission is scheduled for 9:00 a.m.\nStage at MIA/POW flag pole for briefing.\nBikes on right sidewalk.\nCages on right curb before and after flag pole area.\nDo not block the road.\n\n\nFlags & Water:\nFlags will be provided\nLarge Bike Flags will NOT be needed.\nWater will be provided.\n\n\n\nSubmitted By: Raymond Myers \nPosition: Arizona Ride Captain \n\nNote: You do not have to own/ride a motorcycle or be a veteran to join\, and membership is Free. The only requirement is RESPECT! To subscribe to receive mission notices\, log into the National Site and click on the Members tab at the top. Select the Subscribe to PGR Missions option.\n Print This Page
URL:https://www.patriotguard.org/mission/marion-samuel-mathews/
CATEGORIES:Honor Mission
END:VEVENT
END:VCALENDAR