BEGIN:VCALENDAR
VERSION:2.0
PRODID:-//Patriot Guard Riders - ECPv5.3.2.1//NONSGML v1.0//EN
CALSCALE:GREGORIAN
METHOD:PUBLISH
X-WR-CALNAME:Patriot Guard Riders
X-ORIGINAL-URL:https://www.patriotguard.org
X-WR-CALDESC:Events for Patriot Guard Riders
BEGIN:VTIMEZONE
TZID:America/New_York
BEGIN:DAYLIGHT
TZOFFSETFROM:-0500
TZOFFSETTO:-0400
TZNAME:EDT
DTSTART:20160313T070000
END:DAYLIGHT
BEGIN:STANDARD
TZOFFSETFROM:-0400
TZOFFSETTO:-0500
TZNAME:EST
DTSTART:20161106T060000
END:STANDARD
END:VTIMEZONE
BEGIN:VEVENT
DTSTART;TZID=America/New_York:20161205T090000
DTEND;TZID=America/New_York:20161205T110000
DTSTAMP:20210405T220952
CREATED:20161205T140000Z
LAST-MODIFIED:20191201T140854Z
UID:407359-1480928400-1480935600@www.patriotguard.org
SUMMARY:Marion Eugene Worrall\, USN
DESCRIPTION:HONOR MISSION\n\nMarion “Gene” Eugene Worrall\nUS Navy/Korea\nCharles City\, Iowa\n5 December 2016\n\n\nThe family of Marion “Gene” Eugene Worrall\, has invited the Patriot Guard Riders to show Honor and Respect for Gene’s service to our great Nation in the United States Navy on the aircraft carrier\, USS Bon Homme Richard\, CV-31\, during the Korean War.\nSERVICE: 10:30 AM\, Monday 5 December 2016 \nRALLY POINT: Immaculate Conception Catholic Church\n106 Chapel Ln\nCharles City\, Iowa 50616 \nhttps://goo.gl/maps/SaSqf5zxtcJ2\n\nRALLY TIME: 9:00 AM \nMISSION BRIEF: 9:20 AM (Immediately establish flag line when briefing is complete)\n\n***This mission will consist of a flag line prior to the service only*** \nRide Captain:\nScott Rathjens\n[URL=”tel:%28319%29%20310-0347″](319) 310-0347[/URL]\nsdarath3@gmail.com
URL:https://www.patriotguard.org/mission/marion-eugene-worrall-usn/
CATEGORIES:Archive
END:VEVENT
END:VCALENDAR