BEGIN:VCALENDAR
VERSION:2.0
PRODID:-//Patriot Guard Riders - ECPv5.3.2.1//NONSGML v1.0//EN
CALSCALE:GREGORIAN
METHOD:PUBLISH
X-WR-CALNAME:Patriot Guard Riders
X-ORIGINAL-URL:https://www.patriotguard.org
X-WR-CALDESC:Events for Patriot Guard Riders
BEGIN:VTIMEZONE
TZID:America/New_York
BEGIN:DAYLIGHT
TZOFFSETFROM:-0500
TZOFFSETTO:-0400
TZNAME:EDT
DTSTART:20190310T070000
END:DAYLIGHT
BEGIN:STANDARD
TZOFFSETFROM:-0400
TZOFFSETTO:-0500
TZNAME:EST
DTSTART:20191103T060000
END:STANDARD
END:VTIMEZONE
BEGIN:VEVENT
DTSTART;VALUE=DATE:20190808
DTEND;VALUE=DATE:20190809
DTSTAMP:20210402T191022
CREATED:20190807T023843Z
LAST-MODIFIED:20190807T023843Z
UID:169884-1565222400-1565308799@www.patriotguard.org
SUMMARY:Marconi Caseria Lopez
DESCRIPTION:Honor Mission\nMarconi Caseria Lopez \, Retired\nUS Army –  Vietnam\nPensacola\, Florida – 08-08-19\n\n\n\n\nABOUT THE MISSION: \nThe family of SFC Marconi C. Lopez\, United States Army\, graciously invited the Patriot Guard to escort him to Barrancas National Cemetery and stand a silent flag line during Military Honors. He was 80 years old when he passed from this earth.SFC Lopes honorably served over 20 years in the United States Army and retired on 31 May 1979. His many military decorations include the National Defense Service Medal\, Parachutist Badge\, Combat Infantry Badge\, Army Commendation Medal 2/OLC\, Meritorious Service Medal\, Bronze Star Medal 3/OLC\, Vietnam Service Medal\, Republic of Vietnam Campaign Medal w/60 Device\, Staff Service Medal First Class\, Good Conduct Medal\, and Overseas Service Bar (6). The Patriot Guard will meet SFC Lopez\, family\, and friends at Olive Baptist Church\, Warrington Campus\, 103 W. Winthrop Ave\, Pensacola\, Fl at 12:45 PM.\n\n\nPRIMARY STAGING DETAILS: 08-08-19  \nStaging Time: 12:15 PM \nOlive Baptist Church\, Warrington Campus\, 103 W. Winthrop Ave\nPensacola\, Florida\n\n\nRide Captain: \nRoy W. Pippin\n251-979-7241\nsmokeynal.rp@gmail.com\n\n\nSpecial Instructions: \nNaval Air Station requires long sleeve shirts\, long trousers\, long-fingered gloves\, DOT Approved helmets\, leather footwear covering the ankles and appropriate eye protection. This attire will always be worn while riding aboard the base.\n\n1230 PM – Briefing for all riders\n1:00 PM – KSU to Barrancas National Cemetery\, Shelter B\n1:30 PM – Honors\n\n\nFlags & Water:\n\nFlags will be provided\nIf you have large bike flags\, please bring them.\nWater will be provided.\n\n\n\nSubmitted By: Ray Doyle \nPosition: Florida Assistant State Captain \n\nNote: You do not have to own/ride a motorcycle or be a veteran to join\, and membership is Free. The only requirement is RESPECT! To subscribe to receive mission notices\, log into the National Site and click on the Members tab at the top. Select the Subscribe to PGR Missions option.
URL:https://www.patriotguard.org/mission/marconi-caseria-lopez/
CATEGORIES:Honor Mission
END:VEVENT
END:VCALENDAR