BEGIN:VCALENDAR
VERSION:2.0
PRODID:-//Patriot Guard Riders - ECPv5.6.0//NONSGML v1.0//EN
CALSCALE:GREGORIAN
METHOD:PUBLISH
X-WR-CALNAME:Patriot Guard Riders
X-ORIGINAL-URL:https://www.patriotguard.org
X-WR-CALDESC:Events for Patriot Guard Riders
BEGIN:VTIMEZONE
TZID:America/New_York
BEGIN:DAYLIGHT
TZOFFSETFROM:-0500
TZOFFSETTO:-0400
TZNAME:EDT
DTSTART:20160313T070000
END:DAYLIGHT
BEGIN:STANDARD
TZOFFSETFROM:-0400
TZOFFSETTO:-0500
TZNAME:EST
DTSTART:20161106T060000
END:STANDARD
END:VTIMEZONE
BEGIN:VEVENT
DTSTART;TZID=America/New_York:20160718T090000
DTEND;TZID=America/New_York:20160718T110000
DTSTAMP:20210512T150144
CREATED:20160718T130000Z
LAST-MODIFIED:20191201T144256Z
UID:410543-1468832400-1468839600@www.patriotguard.org
SUMMARY:Marco Antonio Zarate\, 52\,  USMC Veteran
DESCRIPTION:Patriot’s Name:  Marco Antonio Zarate \n\nMission Name:  Flag line church and cemetery \nMilitary Branch:  Bellaire Police Department – U.S. Marines \nDate of Mission:  July 18\, 2016 \nStaging Time:  12:15 AM \nBriefing Time:  12:50 AM \nIn position time or KSU: 1:00 PM \nStaging Address: \nCo-Cathedral of the Sacred Heart\, 1111 St. Joseph Parkway\, Houston \nCemetery:  Memorial Oaks\, 13001 Katy Freeway\, Houston \nMission details:  We will stand a flag line at the church before the start of service. Then go to the cemetery to stand a flag line. \nObituary: Bellaire Police Officer Marco Anthony Zarate passed away July 12\, 2016 in the line of duty at the age of 52.  Marco was born in Houston\, Texas\, October 2\, 1963. He served in the United States Marine Corp. \nMarco leaves behind his wife Cecilla\, three daughters\, his parents\, three sisters and many nieces and nephews. \nHe was an active member of the Thin Blue Line police motorcycle community\, a volunteer with the Special Olympics\, and had earned a second- degree black belt in karate. \nRide Captain: Willie Dromgoole\nRC Phone number: 832-724-5655\nRC Email address: wd21@sbcglobal.net \nRC #2: Pat Thompson\nRC #2 Phone number:  832-428-6758\nRC #2 Email address: Thompson-pat@sbcglobal.net \nSupport Vehicle: Roy Johnson \nWeather Forecast: 97 with a 30% chance of Isolated Thunderstorms \nHydrate before and during mission
URL:https://www.patriotguard.org/mission/marco-antonio-zarate-52-usmc-veteran/
CATEGORIES:Archive
END:VEVENT
END:VCALENDAR