BEGIN:VCALENDAR
VERSION:2.0
PRODID:-//Patriot Guard Riders - ECPv5.3.2.1//NONSGML v1.0//EN
CALSCALE:GREGORIAN
METHOD:PUBLISH
X-WR-CALNAME:Patriot Guard Riders
X-ORIGINAL-URL:https://www.patriotguard.org
X-WR-CALDESC:Events for Patriot Guard Riders
BEGIN:VTIMEZONE
TZID:America/New_York
BEGIN:DAYLIGHT
TZOFFSETFROM:-0500
TZOFFSETTO:-0400
TZNAME:EDT
DTSTART:20210314T070000
END:DAYLIGHT
BEGIN:STANDARD
TZOFFSETFROM:-0400
TZOFFSETTO:-0500
TZNAME:EST
DTSTART:20211107T060000
END:STANDARD
END:VTIMEZONE
BEGIN:VEVENT
DTSTART;VALUE=DATE:20210406
DTEND;VALUE=DATE:20210407
DTSTAMP:20210404T082542
CREATED:20210401T161858Z
LAST-MODIFIED:20210403T212300Z
UID:573560-1617667200-1617753599@www.patriotguard.org
SUMMARY:Manuel Beltran\, Sr.
DESCRIPTION:Honor Mission\nManuel Beltran\, Sr. \, Veteran\nUSA \, ANG –\nTucson\, Arizona – 04-06-21\n\n\n\nABOUT THE MISSION: \nManuel Beltran\, Sr. is a United States Army Veteran. He entered active duty in 1953. He served a total of 4 years in the Army and Arizona National Guard.  Manuel’s last duty assignment was 480th Field Artillery Battalion. On March 14\, 1957\, having attained the rank of PFC\, he was honorably discharged. It is our honor to stand in silent reverence as we show respect and gratitude to this hero for his sacrifices made for this nation.\n\n\nPRIMARY STAGING DETAILS: 04-06-21 \nStaging Time: 11:00 \nSouth Lawn Cemetery\n5401 S Park Ave.\nTucson\, Arizona 85706\n\n\nRide Captain: \nChris Kleparek “Kip”   520-240-7163    kipnkid@q.com\n\nFlag Captain: Michael Moore “Sleepy”\n\n\nSpecial Instructions: \n\n11:15 AM: Mission briefing\n11:30 AM: Set the flag line\n11:45 AM: Military Honors\n\n\nAlthough all prior Statewide mandates have been lifted\, members must still adhere to the following:· All members are required to carry a face mask/cloth covering at all times during the mission. There are still partners (funeral homes\, cemeteries\, churches) that require masks to be worn. There are no exceptions.· If you feel ill or have a temperature\, please stay home until you improve.· If\, in the past week\, you have tested positive for COVID-19\, or you have been in contact with someone who has tested positive for COVID-19 in the past week\, immediately notify the State Captain or an Assistant State Captain. · Continue practicing social distancing at staging locations\, standing the flag line\, and at the support vehicle. Maintain at least 15 feet separation from all family members\, cemetery personnel\, Honor Guard\, funeral home staff\, clergy\, etc.· Wash your hands before\, during (as practical)\, and after the mission.· Water will be provided by the flag support person and passed out only by that person. No snacks will be provided by flag support and members should not bring any to share either.\n\n\nFlags & Water:\nFlags will be provided\nLarge Bike Flags will NOT be needed.\nWater will be provided.\n\nSubmitted By: David Murphy \nPosition: Arizona Assistant State Captain \n\nNote: You do not have to own/ride a motorcycle or be a veteran to join\, and membership is Free. The only requirement is RESPECT! To subscribe to receive mission notices\, log into the National Site and click on the Members tab at the top. Select the Subscribe to PGR Missions option.\n Print This Page
URL:https://www.patriotguard.org/mission/manuel-beltran-sr/
CATEGORIES:Honor Mission
END:VEVENT
END:VCALENDAR