BEGIN:VCALENDAR
VERSION:2.0
PRODID:-//Patriot Guard Riders - ECPv5.3.2.1//NONSGML v1.0//EN
CALSCALE:GREGORIAN
METHOD:PUBLISH
X-WR-CALNAME:Patriot Guard Riders
X-ORIGINAL-URL:https://www.patriotguard.org
X-WR-CALDESC:Events for Patriot Guard Riders
BEGIN:VTIMEZONE
TZID:America/New_York
BEGIN:DAYLIGHT
TZOFFSETFROM:-0500
TZOFFSETTO:-0400
TZNAME:EDT
DTSTART:20190310T070000
END:DAYLIGHT
BEGIN:STANDARD
TZOFFSETFROM:-0400
TZOFFSETTO:-0500
TZNAME:EST
DTSTART:20191103T060000
END:STANDARD
END:VTIMEZONE
BEGIN:VEVENT
DTSTART;VALUE=DATE:20190927
DTEND;VALUE=DATE:20190929
DTSTAMP:20210401T090545
CREATED:20190927T035937Z
LAST-MODIFIED:20190927T035937Z
UID:176813-1569542400-1569715199@www.patriotguard.org
SUMMARY:Major Johnson\, Jr
DESCRIPTION:Honor Mission\nMajor Johnson\, Jr\, Veteran\nUSA\, ARNG –\nJackson\, Mississippi – 09-27-19\n\n\n\nABOUT THE MISSION: \nWe are sad to report the death of U.S. Army Veteran Major Johnson\, Jr. His family has requested Patriot Guard to participate in his services. It will be our honor to do so. PV2 Johnson proudly and honorably served in U.S. Army and ARNG.\n\n\nPRIMARY STAGING DETAILS: 09-27-19 \nStaging Time: 09:45 AM\n \nJackson Memorial Funeral Service\n1000 W. Woodrow Wilson Avenue\nJackson\, Mississippi 39213\n\n\nRide Captain: \nRandy Oswalt\, 601-506-3956\n\n\nSpecial Instructions: \nStaging at 9:45 a.m. to post flags only from 10 a.m. until 5 p.m.\n\n\nFlags & Water:\nFlags will be provided\nLarge Bike Flags will NOT be needed.\nWater WILL NOT be provided\, please bring your own.\n\nSTAGING #2 DETAILS: 09-28-19 \nStaging Time: 11:30 AM\n \nGreater Bethlehem Temple Apostolic Church\n1505 Robinson Road\nJackson\, Mississippi 39203\n\n\nRide Captain: \nRandy Oswalt\n601-506-3956\n\n\nSpecial Instructions: \nStaging at 11:30 a.m.\nVisitation from 12:00 p.m. to 1:00 p.m.\nWe will stand a flag line from 12:00 p.m. until the 1:00 p.m. Service.\nThere will be no escort.\n\n\nFlags & Water:\nFlags will be provided\nLarge Bike Flags will NOT be needed.\nWater WILL NOT be provided\, please bring your own.\n\n\n\nSubmitted By: Keith Grantham \nPosition: Mississippi Assistant State Captain \n\nNote: You do not have to own/ride a motorcycle or be a veteran to join\, and membership is Free. The only requirement is RESPECT! To subscribe to receive mission notices\, log into the National Site and click on the Members tab at the top. Select the Subscribe to PGR Missions option.\n Print This Page
URL:https://www.patriotguard.org/mission/major-johnson-jr/
CATEGORIES:Honor Mission
END:VEVENT
END:VCALENDAR