BEGIN:VCALENDAR
VERSION:2.0
PRODID:-//Patriot Guard Riders - ECPv5.6.0//NONSGML v1.0//EN
CALSCALE:GREGORIAN
METHOD:PUBLISH
X-WR-CALNAME:Patriot Guard Riders
X-ORIGINAL-URL:https://www.patriotguard.org
X-WR-CALDESC:Events for Patriot Guard Riders
BEGIN:VTIMEZONE
TZID:America/New_York
BEGIN:DAYLIGHT
TZOFFSETFROM:-0500
TZOFFSETTO:-0400
TZNAME:EDT
DTSTART:20090308T070000
END:DAYLIGHT
BEGIN:STANDARD
TZOFFSETFROM:-0400
TZOFFSETTO:-0500
TZNAME:EST
DTSTART:20091101T060000
END:STANDARD
END:VTIMEZONE
BEGIN:VEVENT
DTSTART;TZID=America/New_York:20090209T090000
DTEND;TZID=America/New_York:20090209T110000
DTSTAMP:20210511T125317
CREATED:20090209T140000Z
LAST-MODIFIED:20191201T112638Z
UID:379208-1234170000-1234177200@www.patriotguard.org
SUMMARY:MAJ (Ret) H. Thayer Peters\, 96\, US Army\, WWII Veteran
DESCRIPTION:The family of H. Thayer Peters has requested our presence at his funeral to honor the passing of their beloved one. \n        DATE:   Monday\, 9 February 09 \n        LOCATION: Jackman Funeral Home\n                7 Mechanic St\n                Douglas\, MA 01516 \n                http://shrunklink.com/bpkk \n        TIME: Please arrive no later than (NLT) 11 AM \n        BRIEFING:  11 AM Monday 9 Feb 09 \n        NOTE: Please park in funeral home’s parking lot to the RIGHT of the home.\n        \n                  Please park heading out \n                 Burial to follow at West Sutton (MA) Cemetery \n        RIDE CAPTAIN: Howard Shrut  hshrut@rcn.com \n        BRING YOUR FLAGS \n        \n \nHoward Shrut\nhshrut@rcn.com
URL:https://www.patriotguard.org/mission/maj-ret-h-thayer-peters-96-us-army-wwii-veteran/
CATEGORIES:Archive
END:VEVENT
END:VCALENDAR