BEGIN:VCALENDAR
VERSION:2.0
PRODID:-//Patriot Guard Riders - ECPv5.6.0//NONSGML v1.0//EN
CALSCALE:GREGORIAN
METHOD:PUBLISH
X-WR-CALNAME:Patriot Guard Riders
X-ORIGINAL-URL:https://www.patriotguard.org
X-WR-CALDESC:Events for Patriot Guard Riders
BEGIN:VTIMEZONE
TZID:America/New_York
BEGIN:DAYLIGHT
TZOFFSETFROM:-0500
TZOFFSETTO:-0400
TZNAME:EDT
DTSTART:20160313T070000
END:DAYLIGHT
BEGIN:STANDARD
TZOFFSETFROM:-0400
TZOFFSETTO:-0500
TZNAME:EST
DTSTART:20161106T060000
END:STANDARD
END:VTIMEZONE
BEGIN:VEVENT
DTSTART;TZID=America/New_York:20160730T090000
DTEND;TZID=America/New_York:20160730T110000
DTSTAMP:20210512T160124
CREATED:20160730T130000Z
LAST-MODIFIED:20191201T144020Z
UID:410304-1469869200-1469876400@www.patriotguard.org
SUMMARY:MAJ Edward B. Ledford
DESCRIPTION:Saturday\, July 30\, 2016\n11:00 am\nMemorial Service for\nMajor Edward B. Ledford\nU.S. Army Retired\nWestgate Church of Christ\, 617 Westgate Pky.\, Dothan\, Al. 36303\n\nIt  is our privilege to be invited to pay our respects to our fallen hero  who honorably served our country\, and to stand in silent honor of their  beloved family member\n\nEnterprise staging: Kangaroo station\, BWC 84 east\, 9:00 am\nKSU: 9:15\nDothan will stage at Westgate Church of Christ\, 9:45 am\n\nRCIC: Bill Seyler 334-494-2705  DRC\n\nFlags and Support: Jon P.
URL:https://www.patriotguard.org/mission/maj-edward-b-ledford/
CATEGORIES:Archive
END:VEVENT
END:VCALENDAR